BEGIN:VCALENDAR
VERSION:2.0
PRODID:-//Hot Radio Maine - ECPv6.15.18//NONSGML v1.0//EN
CALSCALE:GREGORIAN
METHOD:PUBLISH
X-WR-CALNAME:Hot Radio Maine
X-ORIGINAL-URL:https://hotradiomaine.com
X-WR-CALDESC:Events for Hot Radio Maine
REFRESH-INTERVAL;VALUE=DURATION:PT1H
X-Robots-Tag:noindex
X-PUBLISHED-TTL:PT1H
BEGIN:VTIMEZONE
TZID:America/New_York
BEGIN:DAYLIGHT
TZOFFSETFROM:-0500
TZOFFSETTO:-0400
TZNAME:EDT
DTSTART:20250309T070000
END:DAYLIGHT
BEGIN:STANDARD
TZOFFSETFROM:-0400
TZOFFSETTO:-0500
TZNAME:EST
DTSTART:20251102T060000
END:STANDARD
BEGIN:DAYLIGHT
TZOFFSETFROM:-0500
TZOFFSETTO:-0400
TZNAME:EDT
DTSTART:20260308T070000
END:DAYLIGHT
BEGIN:STANDARD
TZOFFSETFROM:-0400
TZOFFSETTO:-0500
TZNAME:EST
DTSTART:20261101T060000
END:STANDARD
BEGIN:DAYLIGHT
TZOFFSETFROM:-0500
TZOFFSETTO:-0400
TZNAME:EDT
DTSTART:20270314T070000
END:DAYLIGHT
BEGIN:STANDARD
TZOFFSETFROM:-0400
TZOFFSETTO:-0500
TZNAME:EST
DTSTART:20271107T060000
END:STANDARD
END:VTIMEZONE
BEGIN:VEVENT
DTSTART;TZID=America/New_York:20260703T190000
DTEND;TZID=America/New_York:20260703T190000
DTSTAMP:20260421T091712
CREATED:20260317T140143Z
LAST-MODIFIED:20260317T140524Z
UID:106928-1783105200-1783105200@hotradiomaine.com
SUMMARY:Lil Wayne & 2 Chainz in Gilford
DESCRIPTION:See Lil Wayne at the Bank of New Hampshire Pavilion in Gilford. With special guest\, 2 Chainz. Friday\, July 3rd. Get your tickets here.
URL:https://hotradiomaine.com/event/lil-wayne-2-chainz-in-gilford/
LOCATION:Bank of New Hampshire Pavilion\, 72 Meadowbrook Ln.\, Gilford\, NH\, 03249\, United States
ATTACH;FMTTYPE=image/jpeg:https://hotradiomaine.com/wp-content/uploads/2026/03/Static_Social-FacebookPR_1200x630_LilWayne_2026_Regional_BankNHPavilion_0703-copy.jpg
END:VEVENT
BEGIN:VEVENT
DTSTART;TZID=America/New_York:20260703T203000
DTEND;TZID=America/New_York:20260703T203000
DTSTAMP:20260421T091712
CREATED:20260216T175448Z
LAST-MODIFIED:20260216T175448Z
UID:106491-1783110600-1783110600@hotradiomaine.com
SUMMARY:Jesse Royal in Portland
DESCRIPTION:See Jesse Royal at Aura in Portland. Friday\, July 3rd. Show is 18+ Get your tickets here.
URL:https://hotradiomaine.com/event/jesse-royal-in-portland/
LOCATION:Aura\, 121 Center Street\, Portland\, ME\, 04101\, United States
ATTACH;FMTTYPE=image/jpeg:https://hotradiomaine.com/wp-content/uploads/2026/02/Aura_Jesse-Royal_1500x1500.jpg
END:VEVENT
END:VCALENDAR