BEGIN:VCALENDAR
VERSION:2.0
PRODID:-//Hot Radio Maine - ECPv6.15.18//NONSGML v1.0//EN
CALSCALE:GREGORIAN
METHOD:PUBLISH
X-ORIGINAL-URL:https://hotradiomaine.com
X-WR-CALDESC:Events for Hot Radio Maine
REFRESH-INTERVAL;VALUE=DURATION:PT1H
X-Robots-Tag:noindex
X-PUBLISHED-TTL:PT1H
BEGIN:VTIMEZONE
TZID:America/New_York
BEGIN:DAYLIGHT
TZOFFSETFROM:-0500
TZOFFSETTO:-0400
TZNAME:EDT
DTSTART:20250309T070000
END:DAYLIGHT
BEGIN:STANDARD
TZOFFSETFROM:-0400
TZOFFSETTO:-0500
TZNAME:EST
DTSTART:20251102T060000
END:STANDARD
BEGIN:DAYLIGHT
TZOFFSETFROM:-0500
TZOFFSETTO:-0400
TZNAME:EDT
DTSTART:20260308T070000
END:DAYLIGHT
BEGIN:STANDARD
TZOFFSETFROM:-0400
TZOFFSETTO:-0500
TZNAME:EST
DTSTART:20261101T060000
END:STANDARD
BEGIN:DAYLIGHT
TZOFFSETFROM:-0500
TZOFFSETTO:-0400
TZNAME:EDT
DTSTART:20270314T070000
END:DAYLIGHT
BEGIN:STANDARD
TZOFFSETFROM:-0400
TZOFFSETTO:-0500
TZNAME:EST
DTSTART:20271107T060000
END:STANDARD
END:VTIMEZONE
BEGIN:VEVENT
DTSTART;TZID=America/New_York:20260719T120000
DTEND;TZID=America/New_York:20260719T140000
DTSTAMP:20260421T105249
CREATED:20260324T163006Z
LAST-MODIFIED:20260324T163006Z
UID:107065-1784462400-1784469600@hotradiomaine.com
SUMMARY:Live Broadcast @ Portland Sea Dogs Game
DESCRIPTION:Hot Radio Maine is broadcasting live from the Portland Sea Dogs game for Kids Run The Bases Day! Sunday\, July 19th at Delta Dental Park in Portland. We’ll be there from 12p to 2p with games\, prizes and music. Need tickets to the game? Get them here. \nMade Hot in Maine by The Law Offices of Joe Bornstein! Accidents happen… to be their specialty. 207-CALL-JOE.
URL:https://hotradiomaine.com/event/live-broadcast-portland-sea-dogs-game-4/
LOCATION:Hadlock Field\, 271 Park Ave.\, Portland\, ME\, 04102\, United States
ATTACH;FMTTYPE=image/png:https://hotradiomaine.com/wp-content/uploads/2020/01/hotradio.png
END:VEVENT
BEGIN:VEVENT
DTSTART;TZID=America/New_York:20260719T193000
DTEND;TZID=America/New_York:20260719T193000
DTSTAMP:20260421T105249
CREATED:20251120T141826Z
LAST-MODIFIED:20251120T141826Z
UID:105251-1784489400-1784489400@hotradiomaine.com
SUMMARY:Weird Al in Bangor
DESCRIPTION:See Weird Al at the Maine Savings Amphitheater in Bangor! With special guest\, Puddles Pity Party. Sunday\, July 19th. Show starts at 7:30pm. All ages. Get your tickets here.
URL:https://hotradiomaine.com/event/weird-al-in-bangor/
LOCATION:Maine Savings Amphitheater\, 1 Railroad Street\, Bangor\, ME\, 04401\, United States
ATTACH;FMTTYPE=image/jpeg:https://hotradiomaine.com/wp-content/uploads/2025/11/WeirdAl_1200x628.jpg
END:VEVENT
END:VCALENDAR