BEGIN:VCALENDAR
VERSION:2.0
PRODID:-//Hot Radio Maine - ECPv6.15.18//NONSGML v1.0//EN
CALSCALE:GREGORIAN
METHOD:PUBLISH
X-WR-CALNAME:Hot Radio Maine
X-ORIGINAL-URL:https://hotradiomaine.com
X-WR-CALDESC:Events for Hot Radio Maine
REFRESH-INTERVAL;VALUE=DURATION:PT1H
X-Robots-Tag:noindex
X-PUBLISHED-TTL:PT1H
BEGIN:VTIMEZONE
TZID:America/New_York
BEGIN:DAYLIGHT
TZOFFSETFROM:-0500
TZOFFSETTO:-0400
TZNAME:EDT
DTSTART:20250309T070000
END:DAYLIGHT
BEGIN:STANDARD
TZOFFSETFROM:-0400
TZOFFSETTO:-0500
TZNAME:EST
DTSTART:20251102T060000
END:STANDARD
BEGIN:DAYLIGHT
TZOFFSETFROM:-0500
TZOFFSETTO:-0400
TZNAME:EDT
DTSTART:20260308T070000
END:DAYLIGHT
BEGIN:STANDARD
TZOFFSETFROM:-0400
TZOFFSETTO:-0500
TZNAME:EST
DTSTART:20261101T060000
END:STANDARD
BEGIN:DAYLIGHT
TZOFFSETFROM:-0500
TZOFFSETTO:-0400
TZNAME:EDT
DTSTART:20270314T070000
END:DAYLIGHT
BEGIN:STANDARD
TZOFFSETFROM:-0400
TZOFFSETTO:-0500
TZNAME:EST
DTSTART:20271107T060000
END:STANDARD
END:VTIMEZONE
BEGIN:VEVENT
DTSTART;TZID=America/New_York:20260808T200000
DTEND;TZID=America/New_York:20260808T200000
DTSTAMP:20260421T121759
CREATED:20250612T172832Z
LAST-MODIFIED:20250625T200503Z
UID:102835-1786219200-1786219200@hotradiomaine.com
SUMMARY:Matt Rife in Bangor
DESCRIPTION:***THIS SHOW HAS BEEN RESCHEDULED TO 8/8/2026*** \nSee comedian Matt Rife at the Maine Savings Amphitheater in Bangor! Saturday\, August 8th. Show starts at 8pm. Show is 18+ Get your tickets here.
URL:https://hotradiomaine.com/event/matt-rife-in-bangor/
LOCATION:Maine Savings Amphitheater\, 1 Railroad Street\, Bangor\, ME\, 04401\, United States
ATTACH;FMTTYPE=image/jpeg:https://hotradiomaine.com/wp-content/uploads/2025/06/MattRife_1080x1080.jpg
END:VEVENT
END:VCALENDAR