BEGIN:VCALENDAR
VERSION:2.0
PRODID:-//Hot Radio Maine - ECPv6.15.18//NONSGML v1.0//EN
CALSCALE:GREGORIAN
METHOD:PUBLISH
X-WR-CALNAME:Hot Radio Maine
X-ORIGINAL-URL:https://hotradiomaine.com
X-WR-CALDESC:Events for Hot Radio Maine
REFRESH-INTERVAL;VALUE=DURATION:PT1H
X-Robots-Tag:noindex
X-PUBLISHED-TTL:PT1H
BEGIN:VTIMEZONE
TZID:America/New_York
BEGIN:DAYLIGHT
TZOFFSETFROM:-0500
TZOFFSETTO:-0400
TZNAME:EDT
DTSTART:20250309T070000
END:DAYLIGHT
BEGIN:STANDARD
TZOFFSETFROM:-0400
TZOFFSETTO:-0500
TZNAME:EST
DTSTART:20251102T060000
END:STANDARD
BEGIN:DAYLIGHT
TZOFFSETFROM:-0500
TZOFFSETTO:-0400
TZNAME:EDT
DTSTART:20260308T070000
END:DAYLIGHT
BEGIN:STANDARD
TZOFFSETFROM:-0400
TZOFFSETTO:-0500
TZNAME:EST
DTSTART:20261101T060000
END:STANDARD
BEGIN:DAYLIGHT
TZOFFSETFROM:-0500
TZOFFSETTO:-0400
TZNAME:EDT
DTSTART:20270314T070000
END:DAYLIGHT
BEGIN:STANDARD
TZOFFSETFROM:-0400
TZOFFSETTO:-0500
TZNAME:EST
DTSTART:20271107T060000
END:STANDARD
END:VTIMEZONE
BEGIN:VEVENT
DTSTART;TZID=America/New_York:20260322T200000
DTEND;TZID=America/New_York:20260322T200000
DTSTAMP:20260421T105419
CREATED:20260206T193017Z
LAST-MODIFIED:20260206T193017Z
UID:106348-1774209600-1774209600@hotradiomaine.com
SUMMARY:FKA Twigs in Boston
DESCRIPTION:See FKA Twigs on the Body High Tour at MGM Music Hall at Fenway in Boston. With special guest\, Tokischa. Sunday\, March 22nd. Show is all ages. Get your tickets here.
URL:https://hotradiomaine.com/event/fka-twigs-in-boston/
LOCATION:MGM Music Hall\, 4 Lansdowne St\, Boston\, MA\, 02215\, United States
ATTACH;FMTTYPE=image/jpeg:https://hotradiomaine.com/wp-content/uploads/2026/02/032226_FKATwigs_Horizontal.jpg
END:VEVENT
BEGIN:VEVENT
DTSTART;TZID=America/New_York:20260321T210000
DTEND;TZID=America/New_York:20260321T210000
DTSTAMP:20260421T105419
CREATED:20260304T194136Z
LAST-MODIFIED:20260304T194136Z
UID:106697-1774126800-1774126800@hotradiomaine.com
SUMMARY:Ryan Deelon @ Oasis
DESCRIPTION:Ryan Deelon’s DJing at Oasis in the Old Port on Saturday\, March 21st! Music starts at 9p.
URL:https://hotradiomaine.com/event/ryan-deelon-oasis/
LOCATION:Oasis\, 42 Wharf St\, Portland\, 04101\, United States
ATTACH;FMTTYPE=image/jpeg:https://hotradiomaine.com/wp-content/uploads/2026/03/HRM-SNAO-Mar-16x9-1.jpg
END:VEVENT
BEGIN:VEVENT
DTSTART;TZID=America/New_York:20260321T170000
DTEND;TZID=America/New_York:20260321T190000
DTSTAMP:20260421T105419
CREATED:20260220T183939Z
LAST-MODIFIED:20260220T183939Z
UID:106569-1774112400-1774119600@hotradiomaine.com
SUMMARY:Live Broadcast @ Maine Mariners Game
DESCRIPTION:Hot Radio Maine is broadcasting live from the Maine Mariners game for Pucks & Paws Night! Saturday\, March 21st at the Cross Insurance Arena in Portland. We’ll be there from 5p to 7p with games\, prizes and music. Need tickets to the game? Get them here. \nMade Hot in Maine by The Law Offices of Joe Bornstein! Accidents happen… to be their specialty. 207-CALL-JOE.
URL:https://hotradiomaine.com/event/live-broadcast-maine-mariners-game-3/
LOCATION:Cross Insurance Arena\, 1 Civic Center Square\, Portland\, ME\, 04101\, United States
ATTACH;FMTTYPE=image/png:https://hotradiomaine.com/wp-content/uploads/2020/01/hotradio.png
END:VEVENT
BEGIN:VEVENT
DTSTART;TZID=America/New_York:20260321T100000
DTEND;TZID=America/New_York:20260322T160000
DTSTAMP:20260421T105419
CREATED:20260305T193015Z
LAST-MODIFIED:20260305T193015Z
UID:106724-1774087200-1774195200@hotradiomaine.com
SUMMARY:Maine Cannabis Expo @ Augusta Civic Center
DESCRIPTION:The Maine Cannabis Expo: Spring Session is Saturday\, March 21st through Sunday\, March 22nd at the Augusta Civic Center. This family friendly event features a wide variety of exhibitors\, live music\, door prizes\, patient gift bags\, medical vape tent\, 50/50 raffle and a joint rolling contest on Sunday! Get tickets here.
URL:https://hotradiomaine.com/event/maine-cannabis-expo-augusta-civic-center/
LOCATION:Augusta Civic Center\, 76 Community Dr\, Augusta\, ME\, 04330\, United States
ATTACH;FMTTYPE=image/jpeg:https://hotradiomaine.com/wp-content/uploads/2026/03/unnamed.jpg
END:VEVENT
BEGIN:VEVENT
DTSTART;TZID=America/New_York:20260320T200000
DTEND;TZID=America/New_York:20260320T200000
DTSTAMP:20260421T105419
CREATED:20260316T173921Z
LAST-MODIFIED:20260316T175645Z
UID:106904-1774036800-1774036800@hotradiomaine.com
SUMMARY:B. Aull: Live at Madrid's in Portland
DESCRIPTION:Join B. Aull for a dance party Live at Madrid’s in Portland! Friday\, March 20th. Music starts at 8pm. 18+ Get your tickets here.
URL:https://hotradiomaine.com/event/b-aull-live-at-madrids-in-portland/
LOCATION:Live at Madrid’s\, 144 Fore St\, Portland\, ME\, United States
ATTACH;FMTTYPE=image/jpeg:https://hotradiomaine.com/wp-content/uploads/2026/03/WHATS-HOT-scaled.jpg
END:VEVENT
BEGIN:VEVENT
DTSTART;TZID=America/New_York:20260320T193000
DTEND;TZID=America/New_York:20260320T193000
DTSTAMP:20260421T105419
CREATED:20251120T182726Z
LAST-MODIFIED:20251120T182726Z
UID:105263-1774035000-1774035000@hotradiomaine.com
SUMMARY:Matteo Lane in Portland
DESCRIPTION:See comedian Matteo Lane on the We Gotta Catch Up Tour at the Merrill Auditorium in Portland! Friday\, March 20th. Show starts at 7:30pm. All ages. Get your tickets here.
URL:https://hotradiomaine.com/event/matteo-lane-in-portland/
LOCATION:Merrill Auditorium\, 20 Myrtle Street\, Portland\, ME\, 04101\, United States
ATTACH;FMTTYPE=image/png:https://hotradiomaine.com/wp-content/uploads/2025/11/Matteo-Lane-FB-1200x630-1.png
END:VEVENT
BEGIN:VEVENT
DTSTART;TZID=America/New_York:20260320T183000
DTEND;TZID=America/New_York:20260320T183000
DTSTAMP:20260421T105419
CREATED:20260130T134758Z
LAST-MODIFIED:20260130T134758Z
UID:106249-1774031400-1774031400@hotradiomaine.com
SUMMARY:Subtronics in Boston
DESCRIPTION:See Subtronics on The Fibonacci Tour at MGM Music Hall at Fenway in Boston. With guests\, AHEE\, Dennett & Blossom. Friday\, March 20th. Show is all ages. Get your tickets here.
URL:https://hotradiomaine.com/event/subtronics-in-boston/
LOCATION:MGM Music Hall\, 4 Lansdowne St\, Boston\, MA\, 02215\, United States
ATTACH;FMTTYPE=image/jpeg:https://hotradiomaine.com/wp-content/uploads/2026/01/032026_Subtronics_1200x630.jpg
END:VEVENT
END:VCALENDAR