BEGIN:VCALENDAR
VERSION:2.0
PRODID:-//Hot Radio Maine - ECPv6.15.18//NONSGML v1.0//EN
CALSCALE:GREGORIAN
METHOD:PUBLISH
X-WR-CALNAME:Hot Radio Maine
X-ORIGINAL-URL:https://hotradiomaine.com
X-WR-CALDESC:Events for Hot Radio Maine
REFRESH-INTERVAL;VALUE=DURATION:PT1H
X-Robots-Tag:noindex
X-PUBLISHED-TTL:PT1H
BEGIN:VTIMEZONE
TZID:America/New_York
BEGIN:DAYLIGHT
TZOFFSETFROM:-0500
TZOFFSETTO:-0400
TZNAME:EDT
DTSTART:20250309T070000
END:DAYLIGHT
BEGIN:STANDARD
TZOFFSETFROM:-0400
TZOFFSETTO:-0500
TZNAME:EST
DTSTART:20251102T060000
END:STANDARD
BEGIN:DAYLIGHT
TZOFFSETFROM:-0500
TZOFFSETTO:-0400
TZNAME:EDT
DTSTART:20260308T070000
END:DAYLIGHT
BEGIN:STANDARD
TZOFFSETFROM:-0400
TZOFFSETTO:-0500
TZNAME:EST
DTSTART:20261101T060000
END:STANDARD
BEGIN:DAYLIGHT
TZOFFSETFROM:-0500
TZOFFSETTO:-0400
TZNAME:EDT
DTSTART:20270314T070000
END:DAYLIGHT
BEGIN:STANDARD
TZOFFSETFROM:-0400
TZOFFSETTO:-0500
TZNAME:EST
DTSTART:20271107T060000
END:STANDARD
END:VTIMEZONE
BEGIN:VEVENT
DTSTART;TZID=America/New_York:20260501T110000
DTEND;TZID=America/New_York:20260501T160000
DTSTAMP:20260421T061958
CREATED:20260413T203317Z
LAST-MODIFIED:20260413T203317Z
UID:107418-1777633200-1777651200@hotradiomaine.com
SUMMARY:Hot Cause for Paws: Pet Food & Supply Drive in Westbrook
DESCRIPTION:Hot Radio Maine and The Law Offices of Joe Bornstein Present\, Hot Cause for Paws – a pet food and supply drive dedicated to helping local animals in need! On Friday\, May 1st\, we will be broadcasting live from the Animal Refuge League of Greater Portland in Westbrook from 11am to 4pm. We would love for you to stop by and donate essential items such as pet food\, toys\, blankets\, and other supplies to support the shelter’s ongoing efforts. Plus\, we’ll be giving away Pitbull concert tickets every hour!
URL:https://hotradiomaine.com/event/hot-cause-for-paws-pet-food-supply-drive-in-westbrook/
LOCATION:Animal Refuge League of Greater Portland\, 217 Landing Road\, Westbrook\, ME\, 04092\, United States
ATTACH;FMTTYPE=image/jpeg:https://hotradiomaine.com/wp-content/uploads/2026/04/HotCauseForPaws_16x9.jpg
END:VEVENT
BEGIN:VEVENT
DTSTART;TZID=America/New_York:20260501T200000
DTEND;TZID=America/New_York:20260501T200000
DTSTAMP:20260421T061958
CREATED:20260120T175826Z
LAST-MODIFIED:20260120T175826Z
UID:106056-1777665600-1777665600@hotradiomaine.com
SUMMARY:An Evening with John Legend in Portland
DESCRIPTION:Experience an Evening with John Legend: A Night of Songs & Stories at Merrill Auditorium in Portland! Friday\, May 1st. Show starts at 8pm. All ages. Tickets on sale 1/23/26 at 10am.
URL:https://hotradiomaine.com/event/an-evening-with-john-legend-in-portland/
LOCATION:Merrill Auditorium\, 20 Myrtle Street\, Portland\, ME\, 04101\, United States
ATTACH;FMTTYPE=image/jpeg:https://hotradiomaine.com/wp-content/uploads/2026/01/john.jpg
END:VEVENT
BEGIN:VEVENT
DTSTART;TZID=America/New_York:20260502T100000
DTEND;TZID=America/New_York:20260502T130000
DTSTAMP:20260421T061958
CREATED:20260305T194030Z
LAST-MODIFIED:20260305T194030Z
UID:106727-1777716000-1777726800@hotradiomaine.com
SUMMARY:Salt & Light Community Center: Grand Opening & Building Dedication in Auburn
DESCRIPTION:Join Salt & Light Community Center for a Grand Opening & Building Dedication on Saturday\, May 2nd from 10a-1p! There will be light refreshments\, building tours\, and so much more. Grab a friend and stop by!
URL:https://hotradiomaine.com/event/salt-light-community-center-grand-opening-building-dedication-in-auburn/
LOCATION:Salt & Light Community Center\, 29 Hampshire St\, Auburn\, ME\, 04210\, United States
ATTACH;FMTTYPE=image/png:https://hotradiomaine.com/wp-content/uploads/2026/03/Save-the-Date-Grand-Opening-SL-2.png
END:VEVENT
BEGIN:VEVENT
DTSTART;TZID=America/New_York:20260502T190000
DTEND;TZID=America/New_York:20260502T190000
DTSTAMP:20260421T061958
CREATED:20260420T165822Z
LAST-MODIFIED:20260420T165822Z
UID:107532-1777748400-1777748400@hotradiomaine.com
SUMMARY:Deck Dance Party: DJ Jay-C @ The Porthole
DESCRIPTION:Join DJ Jay-C for a Deck Dance Party. Saturday\, May 2nd at The Porthole in The Old Port. Doors open at 7p. No cover! 21+
URL:https://hotradiomaine.com/event/deck-dance-party-dj-jay-c-the-porthole/
LOCATION:The Porthole\, 20 Custom House Wharf\, Portland\, ME\, 04101\, United States
ATTACH;FMTTYPE=image/jpeg:https://hotradiomaine.com/wp-content/uploads/2026/04/02A69855-CCDD-4A57-9B7D-4F524ABE2070.jpeg
END:VEVENT
BEGIN:VEVENT
DTSTART;TZID=America/New_York:20260507T190000
DTEND;TZID=America/New_York:20260507T190000
DTSTAMP:20260421T061958
CREATED:20260406T172507Z
LAST-MODIFIED:20260406T172507Z
UID:107327-1778180400-1778180400@hotradiomaine.com
SUMMARY:Pup & Friends Benefit Concert feat. Shaggy in Boston
DESCRIPTION:Experience the Pup & Friends Benefit Concert featuring Shaggy! With special guests\, Tina F.K.A. HoodCelebrityy\, TIFA & DJ Suss One. Raising money for hurricane victims of Jamaica at Big Night Live in Boston. Thursday\, May 7th. Show is all 18+ Get your tickets here.
URL:https://hotradiomaine.com/event/pup-friends-benefit-concert-feat-shaggy-in-boston/
LOCATION:Big Night Live\, 110 Causeway St.\, Boston\, MA\, United States
ATTACH;FMTTYPE=image/jpeg:https://hotradiomaine.com/wp-content/uploads/2026/04/PupShaggy0507_1920x1080.jpg
END:VEVENT
BEGIN:VEVENT
DTSTART;TZID=America/New_York:20260512T200000
DTEND;TZID=America/New_York:20260512T200000
DTSTAMP:20260421T061958
CREATED:20260206T194009Z
LAST-MODIFIED:20260206T194009Z
UID:106354-1778616000-1778616000@hotradiomaine.com
SUMMARY:PinkPantheress in Boston
DESCRIPTION:Experience An Evening with PinkPantheress at MGM Music Hall at Fenway in Boston. Tuesday\, May 12th. Show is all ages. Get your tickets here.
URL:https://hotradiomaine.com/event/pinkpantheress-in-boston/
LOCATION:MGM Music Hall\, 4 Lansdowne St\, Boston\, MA\, 02215\, United States
ATTACH;FMTTYPE=image/jpeg:https://hotradiomaine.com/wp-content/uploads/2026/02/051226_PinkPantheress_Horizontal.jpg
END:VEVENT
BEGIN:VEVENT
DTSTART;VALUE=DATE:20260515
DTEND;VALUE=DATE:20260517
DTSTAMP:20260421T061958
CREATED:20260306T211030Z
LAST-MODIFIED:20260306T211030Z
UID:106761-1778803200-1778975999@hotradiomaine.com
SUMMARY:All Roads Music Festival in Portland
DESCRIPTION:Don’t miss All Roads Music Festival in Portland! Friday\, May 15th & Saturday\, May 16th across various venues in Portland. More details here.
URL:https://hotradiomaine.com/event/all-roads-music-festival-in-portland/
LOCATION:ME
ATTACH;FMTTYPE=image/jpeg:https://hotradiomaine.com/wp-content/uploads/2026/03/AllRoadsPortland_Teaser_web-600x927-1.jpg
END:VEVENT
BEGIN:VEVENT
DTSTART;TZID=America/New_York:20260515T210000
DTEND;TZID=America/New_York:20260515T210000
DTSTAMP:20260421T061958
CREATED:20251218T135829Z
LAST-MODIFIED:20251218T135829Z
UID:105654-1778878800-1778878800@hotradiomaine.com
SUMMARY:Ghostface Killah in Hampton Beach
DESCRIPTION:See Ghostface Killah at Wally’s in Hampton Beach\, NH. Friday\, May 15th. Show is 21+ Get your tickets here.
URL:https://hotradiomaine.com/event/ghostface-killah-in-hampton-beach/
LOCATION:Wally’s\, 144 Ashworth Ave\, Hampton Beach\, New Hampshire\, 03842
ATTACH;FMTTYPE=image/png:https://hotradiomaine.com/wp-content/uploads/2025/12/ghostface_1920x1080.png
END:VEVENT
BEGIN:VEVENT
DTSTART;TZID=America/New_York:20260520T190000
DTEND;TZID=America/New_York:20260520T190000
DTSTAMP:20260421T061958
CREATED:20260217T140733Z
LAST-MODIFIED:20260217T140733Z
UID:106511-1779303600-1779303600@hotradiomaine.com
SUMMARY:Hot Show #31: Curren$y in Portland
DESCRIPTION:Oxbow Live & Hot Radio Maine Present\, Hot Show #31: Curren$y. At Oxbow Blending & Bottling in Portland Wednesday\, May 20th. Get your tickets here. Show is 21+
URL:https://hotradiomaine.com/event/hot-show-31-curreny-in-portland/
LOCATION:Oxbow Blending & Bottling\, 49 Washington Ave\, Portland\, ME\, 04101\, United States
ATTACH;FMTTYPE=image/jpeg:https://hotradiomaine.com/wp-content/uploads/2026/02/Curreny_Oxbow_16x9-1.jpg
END:VEVENT
BEGIN:VEVENT
DTSTART;TZID=America/New_York:20260522T200000
DTEND;TZID=America/New_York:20260522T200000
DTSTAMP:20260421T061958
CREATED:20260206T194558Z
LAST-MODIFIED:20260206T194558Z
UID:106357-1779480000-1779480000@hotradiomaine.com
SUMMARY:Charlie Puth in Boston
DESCRIPTION:See Charlie Puth on Whatever’s Clever! World Tour at MGM Music Hall at Fenway in Boston. With special guests\, Daniel Seavey & Ally Salort. Friday\, May 22nd. Show is all ages. Get your tickets here.
URL:https://hotradiomaine.com/event/charlie-puth-in-boston/
LOCATION:MGM Music Hall\, 4 Lansdowne St\, Boston\, MA\, 02215\, United States
ATTACH;FMTTYPE=image/jpeg:https://hotradiomaine.com/wp-content/uploads/2026/02/052226_CharliePuth_Horizontal.jpg
END:VEVENT
BEGIN:VEVENT
DTSTART;TZID=America/New_York:20260523T090000
DTEND;TZID=America/New_York:20260523T090000
DTSTAMP:20260421T061958
CREATED:20260415T190956Z
LAST-MODIFIED:20260415T190956Z
UID:107468-1779526800-1779526800@hotradiomaine.com
SUMMARY:Maine Needs Community Walk & 5K Race in Portland
DESCRIPTION:The Maine Needs Community Walk & 5K Race is Saturday May 23rd at 9am at Payson Park and along Back Cove in Portland – A fundraiser to support the basic material needs of individuals and families Statewide. This year’s event will include a timed 5K race as well as a 3.5-mile run and walk. Participants of all abilities are invited to run\, walk\, roll or stroll. Register here.
URL:https://hotradiomaine.com/event/maine-needs-community-walk-5k-race-in-portland/
LOCATION:Payson Park\, Portland\, ME\, 04103\, United States
ATTACH;FMTTYPE=image/png:https://hotradiomaine.com/wp-content/uploads/2026/04/COMMUNITY-IMPACT-POSTER-UPDATED-4126.png
END:VEVENT
BEGIN:VEVENT
DTSTART;TZID=America/New_York:20260523T120000
DTEND;TZID=America/New_York:20260523T140000
DTSTAMP:20260421T061958
CREATED:20260324T162509Z
LAST-MODIFIED:20260324T162509Z
UID:107060-1779537600-1779544800@hotradiomaine.com
SUMMARY:Live Broadcast @ Portland Sea Dogs Game
DESCRIPTION:Hot Radio Maine is broadcasting live from the Portland Sea Dogs game for First Responders Day! Saturday\, May 23rd at Delta Dental Park in Portland. We’ll be there from 12p to 2p with games\, prizes and music. Need tickets to the game? Get them here.  \nMade Hot in Maine by The Law Offices of Joe Bornstein! Accidents happen… to be their specialty. 207-CALL-JOE.
URL:https://hotradiomaine.com/event/live-broadcast-portland-sea-dogs-game-2/
LOCATION:Hadlock Field\, 271 Park Ave.\, Portland\, ME\, 04102\, United States
ATTACH;FMTTYPE=image/png:https://hotradiomaine.com/wp-content/uploads/2020/01/hotradio.png
END:VEVENT
BEGIN:VEVENT
DTSTART;TZID=America/New_York:20260523T200000
DTEND;TZID=America/New_York:20260523T200000
DTSTAMP:20260421T061958
CREATED:20260206T195123Z
LAST-MODIFIED:20260206T195123Z
UID:106360-1779566400-1779566400@hotradiomaine.com
SUMMARY:Ari Lennox in Boston
DESCRIPTION:See Ari Lennox on The Vacancy Tour at MGM Music Hall at Fenway in Boston. Saturday\, May 23rd. Show is all ages. Get your tickets here.
URL:https://hotradiomaine.com/event/ari-lennox-in-boston/
LOCATION:MGM Music Hall\, 4 Lansdowne St\, Boston\, MA\, 02215\, United States
ATTACH;FMTTYPE=image/jpeg:https://hotradiomaine.com/wp-content/uploads/2026/02/052326_AriLennox_1200x630.jpg
END:VEVENT
BEGIN:VEVENT
DTSTART;TZID=America/New_York:20260529T200000
DTEND;TZID=America/New_York:20260529T200000
DTSTAMP:20260421T061958
CREATED:20260206T195459Z
LAST-MODIFIED:20260206T195459Z
UID:106363-1780084800-1780084800@hotradiomaine.com
SUMMARY:Khalid in Boston
DESCRIPTION:See Khalid on It’s Always Summer Somewhere Tour at MGM Music Hall at Fenway in Boston. With special guest\, Lauv. Friday\, May 29th. Show is all ages. Get your tickets here.
URL:https://hotradiomaine.com/event/khalid-in-boston/
LOCATION:MGM Music Hall\, 4 Lansdowne St\, Boston\, MA\, 02215\, United States
ATTACH;FMTTYPE=image/jpeg:https://hotradiomaine.com/wp-content/uploads/2026/02/052926_Khalid_Horizontal.jpg
END:VEVENT
BEGIN:VEVENT
DTSTART;TZID=America/New_York:20260530T193000
DTEND;TZID=America/New_York:20260530T193000
DTSTAMP:20260421T061958
CREATED:20260206T200706Z
LAST-MODIFIED:20260206T200706Z
UID:106366-1780169400-1780169400@hotradiomaine.com
SUMMARY:Don Toliver in Boston
DESCRIPTION:See Don Toliver on The Octane Tour at the TD Garden in Boston. With special guests\, SahBabii\, SoFaygo & Chase B. Saturday\, May 30th. Show is all ages. Get your tickets here.
URL:https://hotradiomaine.com/event/don-toliver-in-boston/
LOCATION:TD Garden\, 100 Legends Way\, Boston\, MA\, 02114\, United States
ATTACH;FMTTYPE=image/jpeg:https://hotradiomaine.com/wp-content/uploads/2026/02/Static_Social-FacebookPR_1200x630_DonToliver_2026_Regional_TDGarden_0530.jpg
END:VEVENT
BEGIN:VEVENT
DTSTART;TZID=America/New_York:20260602T193000
DTEND;TZID=America/New_York:20260602T193000
DTSTAMP:20260421T061958
CREATED:20260401T161730Z
LAST-MODIFIED:20260401T161730Z
UID:107200-1780428600-1780428600@hotradiomaine.com
SUMMARY:A$AP Rocky in Boston
DESCRIPTION:See A$AP Rocky on the Don’t Be Dumb Tour at the TD Garden in Boston. Tuesday\, June 2nd. Show is all ages. Get your tickets here.
URL:https://hotradiomaine.com/event/aap-rocky-in-boston/
LOCATION:TD Garden\, 100 Legends Way\, Boston\, MA\, 02114\, United States
ATTACH;FMTTYPE=image/jpeg:https://hotradiomaine.com/wp-content/uploads/2026/04/Static_Social-FacebookPR_1200x630_ASAPRocky_2026_Regional_TDGarden_0602.jpg
END:VEVENT
BEGIN:VEVENT
DTSTART;TZID=America/New_York:20260605T200000
DTEND;TZID=America/New_York:20260605T200000
DTSTAMP:20260421T061958
CREATED:20250925T173458Z
LAST-MODIFIED:20250925T173458Z
UID:104485-1780689600-1780689600@hotradiomaine.com
SUMMARY:MGK & Wiz Khalifa in Bangor
DESCRIPTION:See MGK & Wiz Khalifa  at the Maine Savings Amphitheater in Bangor! With special guest\, De’Wayne. Friday\, June 5th. Show starts at 7pm. All ages. Get your tickets here.
URL:https://hotradiomaine.com/event/mgk-wiz-khalifa-in-bangor/
LOCATION:Maine Savings Amphitheater\, 1 Railroad Street\, Bangor\, ME\, 04401\, United States
ATTACH;FMTTYPE=image/jpeg:https://hotradiomaine.com/wp-content/uploads/2025/09/MGK_1080x1080_On-Sale.jpg
END:VEVENT
BEGIN:VEVENT
DTSTART;TZID=America/New_York:20260605T200000
DTEND;TZID=America/New_York:20260605T200000
DTSTAMP:20260421T061958
CREATED:20260206T145340Z
LAST-MODIFIED:20260206T145340Z
UID:106342-1780689600-1780689600@hotradiomaine.com
SUMMARY:Freddie Gibbs in Boston
DESCRIPTION:See Freddie Gibbs on The Last Rabbit Tour at Roadrunner in Boston. With special guest\, Geordie Greep. Friday\, June 5th. Show is all ages. Get your tickets here.
URL:https://hotradiomaine.com/event/freddie-gibbs-in-boston/
LOCATION:Roadrunner\, 89 Guest Street\, Boston\, MA\, 02135\, United States
ATTACH;FMTTYPE=image/jpeg:https://hotradiomaine.com/wp-content/uploads/2026/02/0605-Boston-FreddieGibbs-1080x1350-1.jpg
END:VEVENT
BEGIN:VEVENT
DTSTART;TZID=America/New_York:20260606T183000
DTEND;TZID=America/New_York:20260606T183000
DTSTAMP:20260421T061958
CREATED:20260126T192241Z
LAST-MODIFIED:20260126T192241Z
UID:106183-1780770600-1780770600@hotradiomaine.com
SUMMARY:Kid Cudi in Bangor
DESCRIPTION:See Kid Cudi at the Maine Savings Amphitheater in Bangor! With special guests\, M.I.A.\, Big Boi & me n ü. Saturday\, June 6th. Show starts at 6:30pm. All ages. Use presale code HAPPY to get your tickets early on 1/29/26. Tickets on sale 1/30/26 at 10am.
URL:https://hotradiomaine.com/event/kid-cudi-in-bangor/
LOCATION:Maine Savings Amphitheater\, 1 Railroad Street\, Bangor\, ME\, 04401\, United States
ATTACH;FMTTYPE=image/jpeg:https://hotradiomaine.com/wp-content/uploads/2026/01/KidCudi_1200x630.jpg
END:VEVENT
BEGIN:VEVENT
DTSTART;TZID=America/New_York:20260607T193000
DTEND;TZID=America/New_York:20260607T193000
DTSTAMP:20260421T061958
CREATED:20260401T162756Z
LAST-MODIFIED:20260401T162756Z
UID:107204-1780860600-1780860600@hotradiomaine.com
SUMMARY:Summer Walker in Boston
DESCRIPTION:See Summer Walker on the Still Finally Over It: The Trilogy Tour at the TD Garden in Boston. With special guests\, Monaco & Odeal. Sunday\, June 7th. Show is all ages. Get your tickets here.
URL:https://hotradiomaine.com/event/summer-walker-in-boston/
LOCATION:TD Garden\, 100 Legends Way\, Boston\, MA\, 02114\, United States
ATTACH;FMTTYPE=image/jpeg:https://hotradiomaine.com/wp-content/uploads/2026/04/Static_Social-X_800x419_SummerWalker_2026_Regional_TDGarden_0607.jpg
END:VEVENT
BEGIN:VEVENT
DTSTART;TZID=America/New_York:20260607T200000
DTEND;TZID=America/New_York:20260607T200000
DTSTAMP:20260421T061958
CREATED:20260317T170119Z
LAST-MODIFIED:20260317T170223Z
UID:106925-1780862400-1780862400@hotradiomaine.com
SUMMARY:Wiz Khalifa in Hampton Beach
DESCRIPTION:See Wiz Khalifa at Bernie’s Beach Bar in Hampton Beach\, NH. With special guest\, DJ Bonics. Sunday\, June 7th. Show is 21+ Get your tickets here.
URL:https://hotradiomaine.com/event/wiz-khalifa-in-hampton-beach/
LOCATION:Bernie’s Beach Bar\, 73 Ocean Blvd\, Hampton\, ME\, 03842\, United States
ATTACH;FMTTYPE=image/png:https://hotradiomaine.com/wp-content/uploads/2026/03/wizkhalifa_1080x1350-1.png
END:VEVENT
BEGIN:VEVENT
DTSTART;TZID=America/New_York:20260607T203000
DTEND;TZID=America/New_York:20260607T203000
DTSTAMP:20260421T061958
CREATED:20260401T164213Z
LAST-MODIFIED:20260401T164213Z
UID:107211-1780864200-1780864200@hotradiomaine.com
SUMMARY:Baby Keem in Boston
DESCRIPTION:See Baby Keem on The Ca$ino Tour at MGM Music Hall at Fenway in Boston. Sunday\, June 7th. Show is all ages. Get your tickets here.
URL:https://hotradiomaine.com/event/baby-keem-in-boston/
LOCATION:MGM Music Hall\, 4 Lansdowne St\, Boston\, MA\, 02215\, United States
ATTACH;FMTTYPE=image/jpeg:https://hotradiomaine.com/wp-content/uploads/2026/04/060726_BabyKeem_1200x630.jpg
END:VEVENT
BEGIN:VEVENT
DTSTART;TZID=America/New_York:20260611T203000
DTEND;TZID=America/New_York:20260611T203000
DTSTAMP:20260421T061958
CREATED:20260401T163434Z
LAST-MODIFIED:20260401T163434Z
UID:107208-1781209800-1781209800@hotradiomaine.com
SUMMARY:Rosalia in Boston
DESCRIPTION:See Rosalia on the Lux Tour at the TD Garden in Boston. Thursday\, June 11th. Show is all ages. Get your tickets here.
URL:https://hotradiomaine.com/event/rosalia-in-boston/
LOCATION:TD Garden\, 100 Legends Way\, Boston\, MA\, 02114\, United States
ATTACH;FMTTYPE=image/jpeg:https://hotradiomaine.com/wp-content/uploads/2026/04/Static_Social-X_800x419_Rosalia_2026_Regional_TDGarden_0611.jpg
END:VEVENT
BEGIN:VEVENT
DTSTART;TZID=America/New_York:20260618T190000
DTEND;TZID=America/New_York:20260619T190000
DTSTAMP:20260421T061958
CREATED:20250717T175223Z
LAST-MODIFIED:20260317T154924Z
UID:103464-1781809200-1781895600@hotradiomaine.com
SUMMARY:Fortune Feimster in Portland
DESCRIPTION:See comedian Fortune Feimster at Merrill Auditorium in Portland! Thursday\, June 18th and Friday\, June 19th. Show starts at 7pm. All ages. Get your tickets here.
URL:https://hotradiomaine.com/event/fortune-feimster-in-portland/
LOCATION:Merrill Auditorium\, 20 Myrtle Street\, Portland\, ME\, 04101\, United States
ATTACH;FMTTYPE=image/jpeg:https://hotradiomaine.com/wp-content/uploads/2025/07/FortuneFeimster_PORTOR_1920x1080_2ND-SHOW.jpg
END:VEVENT
BEGIN:VEVENT
DTSTART;TZID=America/New_York:20260619T120000
DTEND;TZID=America/New_York:20260619T120000
DTSTAMP:20260421T061958
CREATED:20260414T125318Z
LAST-MODIFIED:20260414T125318Z
UID:107426-1781870400-1781870400@hotradiomaine.com
SUMMARY:Live Broadcast: Beach Blitz @ Palace Playland
DESCRIPTION:Join Hot Radio Maine at Palace Playland in Old Orchard Beach for Beach Blitz every Friday this summer! We’ll be broadcasting live\, playing games and giving away prizes starting at 12p. See you there!  \nMade Hot in Maine by Town & Country Federal Credit Union
URL:https://hotradiomaine.com/event/live-broadcast-beach-blitz-palace-playland/
LOCATION:Palace Playland\, Old Orchard Beach
ATTACH;FMTTYPE=image/jpeg:https://hotradiomaine.com/wp-content/uploads/2026/04/HRM-BeachBlitz-1x1-1.jpg
END:VEVENT
BEGIN:VEVENT
DTSTART;TZID=America/New_York:20260619T170000
DTEND;TZID=America/New_York:20260619T190000
DTSTAMP:20260421T061958
CREATED:20260324T162743Z
LAST-MODIFIED:20260324T162743Z
UID:107063-1781888400-1781895600@hotradiomaine.com
SUMMARY:Live Broadcast @ Portland Sea Dogs Game
DESCRIPTION:Hot Radio Maine is broadcasting live from the Portland Sea Dogs game for Section 10 Night! Friday\, June 19th at Delta Dental Park in Portland. We’ll be there from 5p to 7p with games\, prizes and music. Need tickets to the game? Get them here. \nMade Hot in Maine by The Law Offices of Joe Bornstein! Accidents happen… to be their specialty. 207-CALL-JOE.
URL:https://hotradiomaine.com/event/live-broadcast-portland-sea-dogs-game-3/
LOCATION:Hadlock Field\, 271 Park Ave.\, Portland\, ME\, 04102\, United States
ATTACH;FMTTYPE=image/png:https://hotradiomaine.com/wp-content/uploads/2020/01/hotradio.png
END:VEVENT
BEGIN:VEVENT
DTSTART;TZID=America/New_York:20260625T190000
DTEND;TZID=America/New_York:20260625T190000
DTSTAMP:20260421T061958
CREATED:20260402T133621Z
LAST-MODIFIED:20260402T133621Z
UID:107228-1782414000-1782414000@hotradiomaine.com
SUMMARY:Wale & Smino in Boston
DESCRIPTION:See Wale & Smino at Citizens House of Blues in Boston. Thursday\, June 25th. Show is all ages. Get your tickets here.
URL:https://hotradiomaine.com/event/wale-smino-in-boston/
LOCATION:Citizens House of Blues Boston\, 15 Lansdowne Street\, Boston\, Massachusetts\, 02215
ATTACH;FMTTYPE=image/jpeg:https://hotradiomaine.com/wp-content/uploads/2026/04/062526_Wale_Smino_1200x630.jpg
END:VEVENT
BEGIN:VEVENT
DTSTART;TZID=America/New_York:20260626T120000
DTEND;TZID=America/New_York:20260626T120000
DTSTAMP:20260421T061958
CREATED:20260414T125520Z
LAST-MODIFIED:20260414T125520Z
UID:107429-1782475200-1782475200@hotradiomaine.com
SUMMARY:Live Broadcast: Beach Blitz @ Palace Playland
DESCRIPTION:Join Hot Radio Maine at Palace Playland in Old Orchard Beach for Beach Blitz every Friday this summer! We’ll be broadcasting live\, playing games and giving away prizes starting at 12p. See you there!  \nMade Hot in Maine by Town & Country Federal Credit Union
URL:https://hotradiomaine.com/event/live-broadcast-beach-blitz-palace-playland-2/
LOCATION:Palace Playland\, Old Orchard Beach
ATTACH;FMTTYPE=image/jpeg:https://hotradiomaine.com/wp-content/uploads/2026/04/HRM-BeachBlitz-1x1-1.jpg
END:VEVENT
BEGIN:VEVENT
DTSTART;TZID=America/New_York:20260628T190000
DTEND;TZID=America/New_York:20260628T190000
DTSTAMP:20260421T061958
CREATED:20260417T130426Z
LAST-MODIFIED:20260417T130426Z
UID:107506-1782673200-1782673200@hotradiomaine.com
SUMMARY:French Montana & Max B in Boston
DESCRIPTION:See French Montana on the Wave Gods Narcos Tour at Citizens House of Blues in Boston. Sunday\, June 28th. Show is all ages. Get your tickets here.
URL:https://hotradiomaine.com/event/french-montana-max-b-in-boston/
LOCATION:Citizens House of Blues Boston\, 15 Lansdowne Street\, Boston\, Massachusetts\, 02215
ATTACH;FMTTYPE=image/jpeg:https://hotradiomaine.com/wp-content/uploads/2026/04/062826_FrenchMontana_MaxB_1200x630.jpg
END:VEVENT
BEGIN:VEVENT
DTSTART;TZID=America/New_York:20260630T190000
DTEND;TZID=America/New_York:20260630T190000
DTSTAMP:20260421T061958
CREATED:20260317T141302Z
LAST-MODIFIED:20260317T141302Z
UID:106935-1782846000-1782846000@hotradiomaine.com
SUMMARY:Lil Wayne & 2 Chainz in Bangor
DESCRIPTION:Hot Radio Maine Presents\, Lil Wayne at the Maine Savings Amphitheater in Bangor! With special guest\, 2 Chainz. Tuesday\, June 30th. Show starts at 7pm. All ages. Get your tickets here.
URL:https://hotradiomaine.com/event/lil-wayne-2-chainz-in-bangor/
LOCATION:Maine Savings Amphitheater\, 1 Railroad Street\, Bangor\, ME\, 04401\, United States
ATTACH;FMTTYPE=image/jpeg:https://hotradiomaine.com/wp-content/uploads/2026/03/LilWayne_MSA_1920x1080.jpg
END:VEVENT
END:VCALENDAR