BEGIN:VCALENDAR
VERSION:2.0
PRODID:-//Hot Radio Maine - ECPv6.15.18//NONSGML v1.0//EN
CALSCALE:GREGORIAN
METHOD:PUBLISH
X-WR-CALNAME:Hot Radio Maine
X-ORIGINAL-URL:https://hotradiomaine.com
X-WR-CALDESC:Events for Hot Radio Maine
REFRESH-INTERVAL;VALUE=DURATION:PT1H
X-Robots-Tag:noindex
X-PUBLISHED-TTL:PT1H
BEGIN:VTIMEZONE
TZID:America/New_York
BEGIN:DAYLIGHT
TZOFFSETFROM:-0500
TZOFFSETTO:-0400
TZNAME:EDT
DTSTART:20250309T070000
END:DAYLIGHT
BEGIN:STANDARD
TZOFFSETFROM:-0400
TZOFFSETTO:-0500
TZNAME:EST
DTSTART:20251102T060000
END:STANDARD
BEGIN:DAYLIGHT
TZOFFSETFROM:-0500
TZOFFSETTO:-0400
TZNAME:EDT
DTSTART:20260308T070000
END:DAYLIGHT
BEGIN:STANDARD
TZOFFSETFROM:-0400
TZOFFSETTO:-0500
TZNAME:EST
DTSTART:20261101T060000
END:STANDARD
BEGIN:DAYLIGHT
TZOFFSETFROM:-0500
TZOFFSETTO:-0400
TZNAME:EDT
DTSTART:20270314T070000
END:DAYLIGHT
BEGIN:STANDARD
TZOFFSETFROM:-0400
TZOFFSETTO:-0500
TZNAME:EST
DTSTART:20271107T060000
END:STANDARD
END:VTIMEZONE
BEGIN:VEVENT
DTSTART;TZID=America/New_York:20260320T193000
DTEND;TZID=America/New_York:20260320T193000
DTSTAMP:20260421T124433
CREATED:20251120T182726Z
LAST-MODIFIED:20251120T182726Z
UID:105263-1774035000-1774035000@hotradiomaine.com
SUMMARY:Matteo Lane in Portland
DESCRIPTION:See comedian Matteo Lane on the We Gotta Catch Up Tour at the Merrill Auditorium in Portland! Friday\, March 20th. Show starts at 7:30pm. All ages. Get your tickets here.
URL:https://hotradiomaine.com/event/matteo-lane-in-portland/
LOCATION:Merrill Auditorium\, 20 Myrtle Street\, Portland\, ME\, 04101\, United States
ATTACH;FMTTYPE=image/png:https://hotradiomaine.com/wp-content/uploads/2025/11/Matteo-Lane-FB-1200x630-1.png
END:VEVENT
BEGIN:VEVENT
DTSTART;TZID=America/New_York:20260320T183000
DTEND;TZID=America/New_York:20260320T183000
DTSTAMP:20260421T124433
CREATED:20260130T134758Z
LAST-MODIFIED:20260130T134758Z
UID:106249-1774031400-1774031400@hotradiomaine.com
SUMMARY:Subtronics in Boston
DESCRIPTION:See Subtronics on The Fibonacci Tour at MGM Music Hall at Fenway in Boston. With guests\, AHEE\, Dennett & Blossom. Friday\, March 20th. Show is all ages. Get your tickets here.
URL:https://hotradiomaine.com/event/subtronics-in-boston/
LOCATION:MGM Music Hall\, 4 Lansdowne St\, Boston\, MA\, 02215\, United States
ATTACH;FMTTYPE=image/jpeg:https://hotradiomaine.com/wp-content/uploads/2026/01/032026_Subtronics_1200x630.jpg
END:VEVENT
END:VCALENDAR