BEGIN:VCALENDAR
VERSION:2.0
PRODID:-//Hot Radio Maine - ECPv6.15.18//NONSGML v1.0//EN
CALSCALE:GREGORIAN
METHOD:PUBLISH
X-ORIGINAL-URL:https://hotradiomaine.com
X-WR-CALDESC:Events for Hot Radio Maine
REFRESH-INTERVAL;VALUE=DURATION:PT1H
X-Robots-Tag:noindex
X-PUBLISHED-TTL:PT1H
BEGIN:VTIMEZONE
TZID:America/New_York
BEGIN:DAYLIGHT
TZOFFSETFROM:-0500
TZOFFSETTO:-0400
TZNAME:EDT
DTSTART:20250309T070000
END:DAYLIGHT
BEGIN:STANDARD
TZOFFSETFROM:-0400
TZOFFSETTO:-0500
TZNAME:EST
DTSTART:20251102T060000
END:STANDARD
BEGIN:DAYLIGHT
TZOFFSETFROM:-0500
TZOFFSETTO:-0400
TZNAME:EDT
DTSTART:20260308T070000
END:DAYLIGHT
BEGIN:STANDARD
TZOFFSETFROM:-0400
TZOFFSETTO:-0500
TZNAME:EST
DTSTART:20261101T060000
END:STANDARD
BEGIN:DAYLIGHT
TZOFFSETFROM:-0500
TZOFFSETTO:-0400
TZNAME:EDT
DTSTART:20270314T070000
END:DAYLIGHT
BEGIN:STANDARD
TZOFFSETFROM:-0400
TZOFFSETTO:-0500
TZNAME:EST
DTSTART:20271107T060000
END:STANDARD
END:VTIMEZONE
BEGIN:VEVENT
DTSTART;TZID=America/New_York:20260710T183000
DTEND;TZID=America/New_York:20260710T183000
DTSTAMP:20260421T183806
CREATED:20260312T190108Z
LAST-MODIFIED:20260312T190108Z
UID:106839-1783708200-1783708200@hotradiomaine.com
SUMMARY:Pussycat Dolls\, Lil' Kim & Mya in Bangor
DESCRIPTION:See the Pussycat Dolls with Lil’ Kim & Mya at the Maine Savings Amphitheater in Bangor! Friday\, July 10th. Show starts at 6:30pm. All ages. Get your tickets here.
URL:https://hotradiomaine.com/event/pussycat-dolls-lil-kim-mya-in-bangor/
LOCATION:Maine Savings Amphitheater\, 1 Railroad Street\, Bangor\, ME\, 04401\, United States
ATTACH;FMTTYPE=image/jpeg:https://hotradiomaine.com/wp-content/uploads/2026/03/PussycatDolls_MSA_1200x628.jpg
END:VEVENT
BEGIN:VEVENT
DTSTART;TZID=America/New_York:20260712T193000
DTEND;TZID=America/New_York:20260712T193000
DTSTAMP:20260421T183806
CREATED:20260402T134525Z
LAST-MODIFIED:20260402T135146Z
UID:107231-1783884600-1783884600@hotradiomaine.com
SUMMARY:Madison Beer in Boston
DESCRIPTION:See Madison Beer at MGM Music Hall at Fenway in Boston. With special guests Thuy & Lulu Simon. Sunday\, July 12th. Show is all ages. Get your tickets here.
URL:https://hotradiomaine.com/event/madison-beer-in-boston/
LOCATION:MGM Music Hall\, 4 Lansdowne St\, Boston\, MA\, 02215\, United States
ATTACH;FMTTYPE=image/jpeg:https://hotradiomaine.com/wp-content/uploads/2026/04/071226_MadisonBeer_1200x1200.jpg
END:VEVENT
BEGIN:VEVENT
DTSTART;TZID=America/New_York:20260716T200000
DTEND;TZID=America/New_York:20260716T200000
DTSTAMP:20260421T183806
CREATED:20260304T195258Z
LAST-MODIFIED:20260304T195258Z
UID:106702-1784232000-1784232000@hotradiomaine.com
SUMMARY:Pop 2000 Tour in Hampton Beach
DESCRIPTION:See The Pop 2000 Tour hosted by Chris Kirkpatrick of *NSYNC\, starring OTown\, Ryan Cabrera\, BBMak & LFO at Bernie’s Beach Bar in Hampton Beach. Thursday\, July 16th. Show is 21+ Get your tickets here.
URL:https://hotradiomaine.com/event/pop-2000-tour-in-hampton-beach/
LOCATION:Bernie’s Beach Bar\, 73 Ocean Blvd\, Hampton\, ME\, 03842\, United States
ATTACH;FMTTYPE=image/png:https://hotradiomaine.com/wp-content/uploads/2026/03/pop2000_1080x1350.png
END:VEVENT
BEGIN:VEVENT
DTSTART;TZID=America/New_York:20260717T120000
DTEND;TZID=America/New_York:20260717T120000
DTSTAMP:20260421T183806
CREATED:20260414T132732Z
LAST-MODIFIED:20260414T132732Z
UID:107433-1784289600-1784289600@hotradiomaine.com
SUMMARY:Live Broadcast: Beach Blitz @ Palace Playland
DESCRIPTION:Join Hot Radio Maine at Palace Playland in Old Orchard Beach for Beach Blitz every Friday this summer! We’ll be broadcasting live\, playing games and giving away prizes starting at 12p. See you there!  \nMade Hot in Maine by Town & Country Federal Credit Union
URL:https://hotradiomaine.com/event/live-broadcast-beach-blitz-palace-playland-4/
LOCATION:Palace Playland\, Old Orchard Beach
ATTACH;FMTTYPE=image/jpeg:https://hotradiomaine.com/wp-content/uploads/2026/04/HRM-BeachBlitz-1x1-1.jpg
END:VEVENT
BEGIN:VEVENT
DTSTART;TZID=America/New_York:20260717T190000
DTEND;TZID=America/New_York:20260717T190000
DTSTAMP:20260421T183806
CREATED:20260312T174326Z
LAST-MODIFIED:20260312T174326Z
UID:106832-1784314800-1784314800@hotradiomaine.com
SUMMARY:Spose in Portland
DESCRIPTION:See Spose Live at Madrid’s in Portland! With Alma June & The Persian Cats and Nobdy. Friday\, July 17th. Show starts at 7pm. All ages. Get your tickets here.
URL:https://hotradiomaine.com/event/spose-in-portland/
LOCATION:Live at Madrid’s\, 144 Fore St\, Portland\, ME\, United States
ATTACH;FMTTYPE=image/jpeg:https://hotradiomaine.com/wp-content/uploads/2026/03/SPOSE.jpg
END:VEVENT
BEGIN:VEVENT
DTSTART;TZID=America/New_York:20260719T120000
DTEND;TZID=America/New_York:20260719T140000
DTSTAMP:20260421T183806
CREATED:20260324T163006Z
LAST-MODIFIED:20260324T163006Z
UID:107065-1784462400-1784469600@hotradiomaine.com
SUMMARY:Live Broadcast @ Portland Sea Dogs Game
DESCRIPTION:Hot Radio Maine is broadcasting live from the Portland Sea Dogs game for Kids Run The Bases Day! Sunday\, July 19th at Delta Dental Park in Portland. We’ll be there from 12p to 2p with games\, prizes and music. Need tickets to the game? Get them here. \nMade Hot in Maine by The Law Offices of Joe Bornstein! Accidents happen… to be their specialty. 207-CALL-JOE.
URL:https://hotradiomaine.com/event/live-broadcast-portland-sea-dogs-game-4/
LOCATION:Hadlock Field\, 271 Park Ave.\, Portland\, ME\, 04102\, United States
ATTACH;FMTTYPE=image/png:https://hotradiomaine.com/wp-content/uploads/2020/01/hotradio.png
END:VEVENT
BEGIN:VEVENT
DTSTART;TZID=America/New_York:20260719T193000
DTEND;TZID=America/New_York:20260719T193000
DTSTAMP:20260421T183806
CREATED:20251120T141826Z
LAST-MODIFIED:20251120T141826Z
UID:105251-1784489400-1784489400@hotradiomaine.com
SUMMARY:Weird Al in Bangor
DESCRIPTION:See Weird Al at the Maine Savings Amphitheater in Bangor! With special guest\, Puddles Pity Party. Sunday\, July 19th. Show starts at 7:30pm. All ages. Get your tickets here.
URL:https://hotradiomaine.com/event/weird-al-in-bangor/
LOCATION:Maine Savings Amphitheater\, 1 Railroad Street\, Bangor\, ME\, 04401\, United States
ATTACH;FMTTYPE=image/jpeg:https://hotradiomaine.com/wp-content/uploads/2025/11/WeirdAl_1200x628.jpg
END:VEVENT
BEGIN:VEVENT
DTSTART;TZID=America/New_York:20260724T120000
DTEND;TZID=America/New_York:20260724T120000
DTSTAMP:20260421T183806
CREATED:20260414T132844Z
LAST-MODIFIED:20260414T132844Z
UID:107435-1784894400-1784894400@hotradiomaine.com
SUMMARY:Live Broadcast: Beach Blitz @ Palace Playland
DESCRIPTION:Join Hot Radio Maine at Palace Playland in Old Orchard Beach for Beach Blitz every Friday this summer! We’ll be broadcasting live\, playing games and giving away prizes starting at 12p. See you there!  \nMade Hot in Maine by Town & Country Federal Credit Union
URL:https://hotradiomaine.com/event/live-broadcast-beach-blitz-palace-playland-5/
LOCATION:Palace Playland\, Old Orchard Beach
ATTACH;FMTTYPE=image/jpeg:https://hotradiomaine.com/wp-content/uploads/2026/04/HRM-BeachBlitz-1x1-1.jpg
END:VEVENT
BEGIN:VEVENT
DTSTART;TZID=America/New_York:20260725T190000
DTEND;TZID=America/New_York:20260725T190000
DTSTAMP:20260421T183806
CREATED:20260402T185957Z
LAST-MODIFIED:20260402T185957Z
UID:107240-1785006000-1785006000@hotradiomaine.com
SUMMARY:Yeat in Boston
DESCRIPTION:See Yeat at MGM Music Hall at Fenway in Boston. With special guests\, slayr & BNYX. Saturday\, July 25th. Show is all ages. Get your tickets here.
URL:https://hotradiomaine.com/event/yeat-in-boston/
LOCATION:MGM Music Hall\, 4 Lansdowne St\, Boston\, MA\, 02215\, United States
ATTACH;FMTTYPE=image/jpeg:https://hotradiomaine.com/wp-content/uploads/2026/04/072526_Yeat_Horizontal.jpg
END:VEVENT
BEGIN:VEVENT
DTSTART;TZID=America/New_York:20260726T200000
DTEND;TZID=America/New_York:20260726T200000
DTSTAMP:20260421T183806
CREATED:20260310T203848Z
LAST-MODIFIED:20260310T203848Z
UID:106802-1785096000-1785096000@hotradiomaine.com
SUMMARY:Collie Buddz in Hampton Beach
DESCRIPTION:See Collie Buddz at Bernie’s Beach Bar in Hampton Beach\, NH. Sunday\, July 26th. Show is 21+ Get your tickets here.
URL:https://hotradiomaine.com/event/collie-buddz-in-hampton-beach/
LOCATION:Bernie’s Beach Bar\, 73 Ocean Blvd\, Hampton\, ME\, 03842\, United States
ATTACH;FMTTYPE=image/jpeg:https://hotradiomaine.com/wp-content/uploads/2026/03/collie_1080x1350.jpg
END:VEVENT
BEGIN:VEVENT
DTSTART;TZID=America/New_York:20260729T190000
DTEND;TZID=America/New_York:20260729T190000
DTSTAMP:20260421T183806
CREATED:20260407T191228Z
LAST-MODIFIED:20260407T191228Z
UID:107347-1785351600-1785351600@hotradiomaine.com
SUMMARY:Elmiene in Boston
DESCRIPTION:See Elmiene on the Sounds for Someone Tour at Big Night Live in Boston. Wednesday\, July 29th. Show is all ages. Get your tickets here.
URL:https://hotradiomaine.com/event/elmiene-in-boston/
LOCATION:Big Night Live\, 110 Causeway St.\, Boston\, MA\, United States
ATTACH;FMTTYPE=image/jpeg:https://hotradiomaine.com/wp-content/uploads/2026/04/1200x628.jpg
END:VEVENT
BEGIN:VEVENT
DTSTART;TZID=America/New_York:20260731T120000
DTEND;TZID=America/New_York:20260731T120000
DTSTAMP:20260421T183806
CREATED:20260414T132950Z
LAST-MODIFIED:20260414T132950Z
UID:107437-1785499200-1785499200@hotradiomaine.com
SUMMARY:Live Broadcast: Beach Blitz @ Palace Playland
DESCRIPTION:Join Hot Radio Maine at Palace Playland in Old Orchard Beach for Beach Blitz every Friday this summer! We’ll be broadcasting live\, playing games and giving away prizes starting at 12p. See you there!  \nMade Hot in Maine by Town & Country Federal Credit Union
URL:https://hotradiomaine.com/event/live-broadcast-beach-blitz-palace-playland-6/
LOCATION:Palace Playland\, Old Orchard Beach
ATTACH;FMTTYPE=image/jpeg:https://hotradiomaine.com/wp-content/uploads/2026/04/HRM-BeachBlitz-1x1-1.jpg
END:VEVENT
BEGIN:VEVENT
DTSTART;TZID=America/New_York:20260731T193000
DTEND;TZID=America/New_York:20260731T193000
DTSTAMP:20260421T183806
CREATED:20260402T190836Z
LAST-MODIFIED:20260402T190836Z
UID:107243-1785526200-1785526200@hotradiomaine.com
SUMMARY:Daniel Caesar in Boston
DESCRIPTION:See Daniel Caesar on the Son Of Spergy Tour at the TD Garden in Boston. With special guest\, Faye Webster. Friday\, July 31st. Show is all ages. Get your tickets here.
URL:https://hotradiomaine.com/event/daniel-caesar-in-boston/
LOCATION:TD Garden\, 100 Legends Way\, Boston\, MA\, 02114\, United States
ATTACH;FMTTYPE=image/jpeg:https://hotradiomaine.com/wp-content/uploads/2026/04/Static_Social-X_800x419_DanielCaesar_2026_Regional_TDGarden_0731.jpg
END:VEVENT
BEGIN:VEVENT
DTSTART;TZID=America/New_York:20260807T120000
DTEND;TZID=America/New_York:20260807T120000
DTSTAMP:20260421T183806
CREATED:20260414T133053Z
LAST-MODIFIED:20260414T133053Z
UID:107439-1786104000-1786104000@hotradiomaine.com
SUMMARY:Live Broadcast: Beach Blitz @ Palace Playland
DESCRIPTION:Join Hot Radio Maine at Palace Playland in Old Orchard Beach for Beach Blitz every Friday this summer! We’ll be broadcasting live\, playing games and giving away prizes starting at 12p. See you there!  \nMade Hot in Maine by Town & Country Federal Credit Union
URL:https://hotradiomaine.com/event/live-broadcast-beach-blitz-palace-playland-7/
LOCATION:Palace Playland\, Old Orchard Beach
ATTACH;FMTTYPE=image/jpeg:https://hotradiomaine.com/wp-content/uploads/2026/04/HRM-BeachBlitz-1x1-1.jpg
END:VEVENT
BEGIN:VEVENT
DTSTART;TZID=America/New_York:20260807T200000
DTEND;TZID=America/New_York:20260807T200000
DTSTAMP:20260421T183806
CREATED:20260402T191445Z
LAST-MODIFIED:20260402T191445Z
UID:107248-1786132800-1786132800@hotradiomaine.com
SUMMARY:J. Cole in Boston
DESCRIPTION:See J.Cole on the Fall-Off World Tour at the TD Garden in Boston. Friday\, August 7th. Show is all ages. Get your tickets here.
URL:https://hotradiomaine.com/event/j-cole-in-boston/
LOCATION:TD Garden\, 100 Legends Way\, Boston\, MA\, 02114\, United States
ATTACH;FMTTYPE=image/jpeg:https://hotradiomaine.com/wp-content/uploads/2026/04/Static_Social-X_800x419_J.Cole_2026_Regional_TDGarden_0807.jpg
END:VEVENT
BEGIN:VEVENT
DTSTART;TZID=America/New_York:20260808T200000
DTEND;TZID=America/New_York:20260808T200000
DTSTAMP:20260421T183806
CREATED:20250612T172832Z
LAST-MODIFIED:20250625T200503Z
UID:102835-1786219200-1786219200@hotradiomaine.com
SUMMARY:Matt Rife in Bangor
DESCRIPTION:***THIS SHOW HAS BEEN RESCHEDULED TO 8/8/2026*** \nSee comedian Matt Rife at the Maine Savings Amphitheater in Bangor! Saturday\, August 8th. Show starts at 8pm. Show is 18+ Get your tickets here.
URL:https://hotradiomaine.com/event/matt-rife-in-bangor/
LOCATION:Maine Savings Amphitheater\, 1 Railroad Street\, Bangor\, ME\, 04401\, United States
ATTACH;FMTTYPE=image/jpeg:https://hotradiomaine.com/wp-content/uploads/2025/06/MattRife_1080x1080.jpg
END:VEVENT
BEGIN:VEVENT
DTSTART;TZID=America/New_York:20260814T120000
DTEND;TZID=America/New_York:20260814T120000
DTSTAMP:20260421T183806
CREATED:20260414T133303Z
LAST-MODIFIED:20260414T133303Z
UID:107441-1786708800-1786708800@hotradiomaine.com
SUMMARY:Live Broadcast: Beach Blitz @ Palace Playland
DESCRIPTION:Join Hot Radio Maine at Palace Playland in Old Orchard Beach for Beach Blitz every Friday this summer! We’ll be broadcasting live\, playing games and giving away prizes starting at 12p. See you there!  \nMade Hot in Maine by Town & Country Federal Credit Union
URL:https://hotradiomaine.com/event/live-broadcast-beach-blitz-palace-playland-8/
LOCATION:Palace Playland\, Old Orchard Beach
ATTACH;FMTTYPE=image/jpeg:https://hotradiomaine.com/wp-content/uploads/2026/04/HRM-BeachBlitz-1x1-1.jpg
END:VEVENT
BEGIN:VEVENT
DTSTART;TZID=America/New_York:20260815T170000
DTEND;TZID=America/New_York:20260815T190000
DTSTAMP:20260421T183806
CREATED:20260324T163209Z
LAST-MODIFIED:20260324T163209Z
UID:107067-1786813200-1786820400@hotradiomaine.com
SUMMARY:Live Broadcast @ Portland Sea Dogs Game
DESCRIPTION:Hot Radio Maine is broadcasting live from the Portland Sea Dogs game for Star Wars Night! Saturday\, August 15th at Delta Dental Park in Portland. We’ll be there from 5p to 7p with games\, prizes and music. Need tickets to the game? Get them here. \nMade Hot in Maine by The Law Offices of Joe Bornstein! Accidents happen… to be their specialty. 207-CALL-JOE.
URL:https://hotradiomaine.com/event/live-broadcast-portland-sea-dogs-game-5/
LOCATION:Hadlock Field\, 271 Park Ave.\, Portland\, ME\, 04102\, United States
ATTACH;FMTTYPE=image/png:https://hotradiomaine.com/wp-content/uploads/2020/01/hotradio.png
END:VEVENT
BEGIN:VEVENT
DTSTART;TZID=America/New_York:20260821T120000
DTEND;TZID=America/New_York:20260821T120000
DTSTAMP:20260421T183806
CREATED:20260414T133406Z
LAST-MODIFIED:20260414T133406Z
UID:107443-1787313600-1787313600@hotradiomaine.com
SUMMARY:Live Broadcast: Beach Blitz @ Palace Playland
DESCRIPTION:Join Hot Radio Maine at Palace Playland in Old Orchard Beach for Beach Blitz every Friday this summer! We’ll be broadcasting live\, playing games and giving away prizes starting at 12p. See you there!  \nMade Hot in Maine by Town & Country Federal Credit Union
URL:https://hotradiomaine.com/event/live-broadcast-beach-blitz-palace-playland-9/
LOCATION:Palace Playland\, Old Orchard Beach
ATTACH;FMTTYPE=image/jpeg:https://hotradiomaine.com/wp-content/uploads/2026/04/HRM-BeachBlitz-1x1-1.jpg
END:VEVENT
BEGIN:VEVENT
DTSTART;TZID=America/New_York:20260821T193000
DTEND;TZID=America/New_York:20260821T193000
DTSTAMP:20260421T183806
CREATED:20260402T192106Z
LAST-MODIFIED:20260402T192106Z
UID:107251-1787340600-1787340600@hotradiomaine.com
SUMMARY:Jack Harlow in Boston
DESCRIPTION:See Jack Harlow on the Monica Tour at MGM Music Hall at Fenway in Boston. Friday\, August 21st. Show is all ages. Get your tickets here.
URL:https://hotradiomaine.com/event/jack-harlow-in-boston/
LOCATION:MGM Music Hall\, 4 Lansdowne St\, Boston\, MA\, 02215\, United States
ATTACH;FMTTYPE=image/jpeg:https://hotradiomaine.com/wp-content/uploads/2026/04/082126_JackHarlow_1200x630.jpg
END:VEVENT
BEGIN:VEVENT
DTSTART;TZID=America/New_York:20260821T200000
DTEND;TZID=America/New_York:20260821T200000
DTSTAMP:20260421T183806
CREATED:20260421T164620Z
LAST-MODIFIED:20260421T164620Z
UID:107552-1787342400-1787342400@hotradiomaine.com
SUMMARY:Dave Attell in Portland
DESCRIPTION:See comedian Dave Attell at the State Theatre in Portland. Friday\, August 21st. Show is all ages. Get your tickets here.
URL:https://hotradiomaine.com/event/dave-attell-in-portland/
LOCATION:State Theatre\, 609 Congress St\, Portland\, ME\, 04101\, United States
ATTACH;FMTTYPE=image/png:https://hotradiomaine.com/wp-content/uploads/2026/04/2026.08.21-Dave-Attell-1200x630-1.png
END:VEVENT
BEGIN:VEVENT
DTSTART;TZID=America/New_York:20260827T200000
DTEND;TZID=America/New_York:20260827T200000
DTSTAMP:20260421T183806
CREATED:20260402T192645Z
LAST-MODIFIED:20260402T192645Z
UID:107254-1787860800-1787860800@hotradiomaine.com
SUMMARY:Ella Mai in Boston
DESCRIPTION:See Ella Mai on the Do You Still Love Me? Tour at MGM Music Hall at Fenway in Boston. With special guests\, AMA & Girlfriend. Thursday\, August 27th. Show is all ages. Get your tickets here.
URL:https://hotradiomaine.com/event/ella-mai-in-boston/
LOCATION:MGM Music Hall\, 4 Lansdowne St\, Boston\, MA\, 02215\, United States
ATTACH;FMTTYPE=image/jpeg:https://hotradiomaine.com/wp-content/uploads/2026/04/082726_EllaMai_1200x630.jpg
END:VEVENT
BEGIN:VEVENT
DTSTART;TZID=America/New_York:20260828T120000
DTEND;TZID=America/New_York:20260828T120000
DTSTAMP:20260421T183806
CREATED:20260414T133647Z
LAST-MODIFIED:20260414T133647Z
UID:107445-1787918400-1787918400@hotradiomaine.com
SUMMARY:Live Broadcast: Beach Blitz @ Palace Playland
DESCRIPTION:Join Hot Radio Maine at Palace Playland in Old Orchard Beach for Beach Blitz every Friday this summer! We’ll be broadcasting live\, playing games and giving away prizes starting at 12p. See you there!  \nMade Hot in Maine by Town & Country Federal Credit Union
URL:https://hotradiomaine.com/event/live-broadcast-beach-blitz-palace-playland-10/
LOCATION:Palace Playland\, Old Orchard Beach
ATTACH;FMTTYPE=image/jpeg:https://hotradiomaine.com/wp-content/uploads/2026/04/HRM-BeachBlitz-1x1-1.jpg
END:VEVENT
BEGIN:VEVENT
DTSTART;TZID=America/New_York:20260830T193000
DTEND;TZID=America/New_York:20260830T193000
DTSTAMP:20260421T183806
CREATED:20260402T193920Z
LAST-MODIFIED:20260402T193920Z
UID:107257-1788118200-1788118200@hotradiomaine.com
SUMMARY:TLC\, Salt-N-Pepa & En Vogue in Mansfield
DESCRIPTION:See TLC\, Salt-N-Pepa & En Vogue on It’s Iconic The Tour at the Xfinity Center in Mansfield. Sunay\, August 30th. Show is all ages. Get your tickets here.
URL:https://hotradiomaine.com/event/tlc-salt-n-pepa-en-vogue-in-mansfield/
LOCATION:Xfinity Center\, 885 S Main St\, Mansfield\, MA\, 02048\, United States
ATTACH;FMTTYPE=image/jpeg:https://hotradiomaine.com/wp-content/uploads/2026/04/Static_Social-X_800x419_TLC-SaltNPepa_2026_Regional_XfinityCenter_0830.jpg
END:VEVENT
BEGIN:VEVENT
DTSTART;TZID=America/New_York:20260831T200000
DTEND;TZID=America/New_York:20260831T200000
DTSTAMP:20260421T183806
CREATED:20260115T193005Z
LAST-MODIFIED:20260115T193005Z
UID:106006-1788206400-1788206400@hotradiomaine.com
SUMMARY:Pitbull & Lil Jon in Bangor
DESCRIPTION:See Pitbull & Lil Jon at the Maine Savings Amphitheater in Bangor! Monday\, August 31st. Show starts at 8pm. All ages. Use presale code WORLDWIDE to get your tickets early on 1/29/26. Tickets on sale 1/30/26 at 10am.
URL:https://hotradiomaine.com/event/pitbull-lil-jon-in-bangor/
LOCATION:Maine Savings Amphitheater\, 1 Railroad Street\, Bangor\, ME\, 04401\, United States
ATTACH;FMTTYPE=image/jpeg:https://hotradiomaine.com/wp-content/uploads/2026/01/Pitbull_1080x1080_Presale.jpg
END:VEVENT
BEGIN:VEVENT
DTSTART;TZID=America/New_York:20260908T183000
DTEND;TZID=America/New_York:20260908T183000
DTSTAMP:20260421T183806
CREATED:20260402T194713Z
LAST-MODIFIED:20260402T194713Z
UID:107261-1788892200-1788892200@hotradiomaine.com
SUMMARY:$uicideboy$ in Mansfield
DESCRIPTION:See the $uicideboy$ on the annual Grey Day Tour at the Xfinity Center in Mansfield. With special guests\, Destroy Lonely\, Shakewell\, Drain\, Black Kray & $lim Gucci. Tuesday\, September 8th. Show is all ages. Get your tickets here.
URL:https://hotradiomaine.com/event/uicideboy-in-mansfield/
LOCATION:Xfinity Center\, 885 S Main St\, Mansfield\, MA\, 02048\, United States
ATTACH;FMTTYPE=image/jpeg:https://hotradiomaine.com/wp-content/uploads/2026/04/Static_Social-Twitter_800x419_SuicideBoys_2026_Regional_XfinityCenter_0908.jpg
END:VEVENT
BEGIN:VEVENT
DTSTART;TZID=America/New_York:20260912T193000
DTEND;TZID=America/New_York:20260912T193000
DTSTAMP:20260421T183806
CREATED:20260402T195752Z
LAST-MODIFIED:20260402T195752Z
UID:107264-1789241400-1789241400@hotradiomaine.com
SUMMARY:Wu-Tang Clan & Bone Thugs-N-Harmony in Mansfield
DESCRIPTION:See Wu-Tang Clan on Forever: The Final Chamber Tour at the Xfinity Center in Mansfield. With special guests\, Bone Thugs-N-Harmony. Saturday\, September 12th. Show is all ages. Get your tickets here.
URL:https://hotradiomaine.com/event/wu-tang-clan-bone-thugs-n-harmony-in-mansfield/
LOCATION:Xfinity Center\, 885 S Main St\, Mansfield\, MA\, 02048\, United States
ATTACH;FMTTYPE=image/jpeg:https://hotradiomaine.com/wp-content/uploads/2026/04/Static_Social-X_800x419_Wu-TangClan_2026_Regional_XfinityCenter_0912.jpg
END:VEVENT
BEGIN:VEVENT
DTSTART;VALUE=DATE:20260925
DTEND;VALUE=DATE:20260927
DTSTAMP:20260421T183806
CREATED:20260311T200623Z
LAST-MODIFIED:20260311T200623Z
UID:106816-1790294400-1790467199@hotradiomaine.com
SUMMARY:Ed Sheeran in Foxborough
DESCRIPTION:See Ed Sheeran on the Loop Tour at Gillette Stadium in Foxborough. Friday\, September 25th & Saturday\, September 26th. Show is all ages. Get your tickets here.
URL:https://hotradiomaine.com/event/ed-sheeran-in-foxborough/
LOCATION:Gillette Stadium\, 1 Patriot Place\, Foxboro\, MA\, 02035\, United States
ATTACH;FMTTYPE=image/jpeg:https://hotradiomaine.com/wp-content/uploads/2026/03/Static_Social-Instagram_1080x1080_EdSheeran_2026_Regional_GilletteStadium_0925_0926_onsale.jpg
END:VEVENT
BEGIN:VEVENT
DTSTART;TZID=America/New_York:20261002T190000
DTEND;TZID=America/New_York:20261002T190000
DTSTAMP:20260421T183806
CREATED:20260331T190231Z
LAST-MODIFIED:20260331T190231Z
UID:107185-1790967600-1790967600@hotradiomaine.com
SUMMARY:Kathy Griffin in Portland
DESCRIPTION:See comedian Kathy Griffin on New Face\, New Tour at Merrill Auditorium in Portland! Friday\, October 2nd. Show starts at 7pm. All ages. Get your tickets here.
URL:https://hotradiomaine.com/event/kathy-griffin-in-portland/
LOCATION:Merrill Auditorium\, 20 Myrtle Street\, Portland\, ME\, 04101\, United States
ATTACH;FMTTYPE=image/jpeg:https://hotradiomaine.com/wp-content/uploads/2026/03/Kathy1920x1080.jpg
END:VEVENT
BEGIN:VEVENT
DTSTART;TZID=America/New_York:20261018T190000
DTEND;TZID=America/New_York:20261018T190000
DTSTAMP:20260421T183806
CREATED:20260421T165017Z
LAST-MODIFIED:20260421T165017Z
UID:107555-1792350000-1792350000@hotradiomaine.com
SUMMARY:Lucas Zelnick in Portland
DESCRIPTION:See comedian Lucas Zelnick at the State Theatre in Portland. Sunday\, October 18th. Show is all ages. Get your tickets here.
URL:https://hotradiomaine.com/event/lucas-zelnick-in-portland/
LOCATION:State Theatre\, 609 Congress St\, Portland\, ME\, 04101\, United States
ATTACH;FMTTYPE=image/png:https://hotradiomaine.com/wp-content/uploads/2026/04/2026.10.18-Lucas-Zelnick-1200x630-1.png
END:VEVENT
END:VCALENDAR