BEGIN:VCALENDAR
VERSION:2.0
PRODID:-//Hot Radio Maine - ECPv6.15.18//NONSGML v1.0//EN
CALSCALE:GREGORIAN
METHOD:PUBLISH
X-ORIGINAL-URL:https://hotradiomaine.com
X-WR-CALDESC:Events for Hot Radio Maine
REFRESH-INTERVAL;VALUE=DURATION:PT1H
X-Robots-Tag:noindex
X-PUBLISHED-TTL:PT1H
BEGIN:VTIMEZONE
TZID:America/New_York
BEGIN:DAYLIGHT
TZOFFSETFROM:-0500
TZOFFSETTO:-0400
TZNAME:EDT
DTSTART:20250309T070000
END:DAYLIGHT
BEGIN:STANDARD
TZOFFSETFROM:-0400
TZOFFSETTO:-0500
TZNAME:EST
DTSTART:20251102T060000
END:STANDARD
BEGIN:DAYLIGHT
TZOFFSETFROM:-0500
TZOFFSETTO:-0400
TZNAME:EDT
DTSTART:20260308T070000
END:DAYLIGHT
BEGIN:STANDARD
TZOFFSETFROM:-0400
TZOFFSETTO:-0500
TZNAME:EST
DTSTART:20261101T060000
END:STANDARD
BEGIN:DAYLIGHT
TZOFFSETFROM:-0500
TZOFFSETTO:-0400
TZNAME:EDT
DTSTART:20270314T070000
END:DAYLIGHT
BEGIN:STANDARD
TZOFFSETFROM:-0400
TZOFFSETTO:-0500
TZNAME:EST
DTSTART:20271107T060000
END:STANDARD
END:VTIMEZONE
BEGIN:VEVENT
DTSTART;TZID=America/New_York:20260908T183000
DTEND;TZID=America/New_York:20260908T183000
DTSTAMP:20260421T223811
CREATED:20260402T194713Z
LAST-MODIFIED:20260402T194713Z
UID:107261-1788892200-1788892200@hotradiomaine.com
SUMMARY:$uicideboy$ in Mansfield
DESCRIPTION:See the $uicideboy$ on the annual Grey Day Tour at the Xfinity Center in Mansfield. With special guests\, Destroy Lonely\, Shakewell\, Drain\, Black Kray & $lim Gucci. Tuesday\, September 8th. Show is all ages. Get your tickets here.
URL:https://hotradiomaine.com/event/uicideboy-in-mansfield/
LOCATION:Xfinity Center\, 885 S Main St\, Mansfield\, MA\, 02048\, United States
ATTACH;FMTTYPE=image/jpeg:https://hotradiomaine.com/wp-content/uploads/2026/04/Static_Social-Twitter_800x419_SuicideBoys_2026_Regional_XfinityCenter_0908.jpg
END:VEVENT
BEGIN:VEVENT
DTSTART;TZID=America/New_York:20260912T193000
DTEND;TZID=America/New_York:20260912T193000
DTSTAMP:20260421T223811
CREATED:20260402T195752Z
LAST-MODIFIED:20260402T195752Z
UID:107264-1789241400-1789241400@hotradiomaine.com
SUMMARY:Wu-Tang Clan & Bone Thugs-N-Harmony in Mansfield
DESCRIPTION:See Wu-Tang Clan on Forever: The Final Chamber Tour at the Xfinity Center in Mansfield. With special guests\, Bone Thugs-N-Harmony. Saturday\, September 12th. Show is all ages. Get your tickets here.
URL:https://hotradiomaine.com/event/wu-tang-clan-bone-thugs-n-harmony-in-mansfield/
LOCATION:Xfinity Center\, 885 S Main St\, Mansfield\, MA\, 02048\, United States
ATTACH;FMTTYPE=image/jpeg:https://hotradiomaine.com/wp-content/uploads/2026/04/Static_Social-X_800x419_Wu-TangClan_2026_Regional_XfinityCenter_0912.jpg
END:VEVENT
BEGIN:VEVENT
DTSTART;VALUE=DATE:20260925
DTEND;VALUE=DATE:20260927
DTSTAMP:20260421T223811
CREATED:20260311T200623Z
LAST-MODIFIED:20260311T200623Z
UID:106816-1790294400-1790467199@hotradiomaine.com
SUMMARY:Ed Sheeran in Foxborough
DESCRIPTION:See Ed Sheeran on the Loop Tour at Gillette Stadium in Foxborough. Friday\, September 25th & Saturday\, September 26th. Show is all ages. Get your tickets here.
URL:https://hotradiomaine.com/event/ed-sheeran-in-foxborough/
LOCATION:Gillette Stadium\, 1 Patriot Place\, Foxboro\, MA\, 02035\, United States
ATTACH;FMTTYPE=image/jpeg:https://hotradiomaine.com/wp-content/uploads/2026/03/Static_Social-Instagram_1080x1080_EdSheeran_2026_Regional_GilletteStadium_0925_0926_onsale.jpg
END:VEVENT
BEGIN:VEVENT
DTSTART;TZID=America/New_York:20261002T190000
DTEND;TZID=America/New_York:20261002T190000
DTSTAMP:20260421T223811
CREATED:20260331T190231Z
LAST-MODIFIED:20260331T190231Z
UID:107185-1790967600-1790967600@hotradiomaine.com
SUMMARY:Kathy Griffin in Portland
DESCRIPTION:See comedian Kathy Griffin on New Face\, New Tour at Merrill Auditorium in Portland! Friday\, October 2nd. Show starts at 7pm. All ages. Get your tickets here.
URL:https://hotradiomaine.com/event/kathy-griffin-in-portland/
LOCATION:Merrill Auditorium\, 20 Myrtle Street\, Portland\, ME\, 04101\, United States
ATTACH;FMTTYPE=image/jpeg:https://hotradiomaine.com/wp-content/uploads/2026/03/Kathy1920x1080.jpg
END:VEVENT
BEGIN:VEVENT
DTSTART;TZID=America/New_York:20261018T190000
DTEND;TZID=America/New_York:20261018T190000
DTSTAMP:20260421T223811
CREATED:20260421T165017Z
LAST-MODIFIED:20260421T165017Z
UID:107555-1792350000-1792350000@hotradiomaine.com
SUMMARY:Lucas Zelnick in Portland
DESCRIPTION:See comedian Lucas Zelnick at the State Theatre in Portland. Sunday\, October 18th. Show is all ages. Get your tickets here.
URL:https://hotradiomaine.com/event/lucas-zelnick-in-portland/
LOCATION:State Theatre\, 609 Congress St\, Portland\, ME\, 04101\, United States
ATTACH;FMTTYPE=image/png:https://hotradiomaine.com/wp-content/uploads/2026/04/2026.10.18-Lucas-Zelnick-1200x630-1.png
END:VEVENT
BEGIN:VEVENT
DTSTART;TZID=America/New_York:20261106T200000
DTEND;TZID=America/New_York:20261106T200000
DTSTAMP:20260421T223811
CREATED:20260421T164150Z
LAST-MODIFIED:20260421T164150Z
UID:107549-1793995200-1793995200@hotradiomaine.com
SUMMARY:Leslie Jones in Portland
DESCRIPTION:See comedian Leslie Jones at the State Theatre in Portland. Friday\, November 6th. Show is all ages. Get your tickets here.
URL:https://hotradiomaine.com/event/leslie-jones-in-portland/
LOCATION:State Theatre\, 609 Congress St\, Portland\, ME\, 04101\, United States
ATTACH;FMTTYPE=image/png:https://hotradiomaine.com/wp-content/uploads/2026/04/2026.11.06-Leslie-Jones-1200x630-1.png
END:VEVENT
BEGIN:VEVENT
DTSTART;TZID=America/New_York:20261123T193000
DTEND;TZID=America/New_York:20261123T193000
DTSTAMP:20260421T223811
CREATED:20260402T200516Z
LAST-MODIFIED:20260402T200516Z
UID:107268-1795462200-1795462200@hotradiomaine.com
SUMMARY:Doja Cat in Boston
DESCRIPTION:See Doja Cat on The Scarlet World Tour at the TD Garden in Boston. Monday\, November 23rd. Show is all ages. Get your tickets here.
URL:https://hotradiomaine.com/event/doja-cat-in-boston/
LOCATION:TD Garden\, 100 Legends Way\, Boston\, MA\, 02114\, United States
ATTACH;FMTTYPE=image/jpeg:https://hotradiomaine.com/wp-content/uploads/2026/04/Static_Social-X_800x419_DojaCat_2026_Regional_TDGarden_1123.jpg
END:VEVENT
END:VCALENDAR