BEGIN:VCALENDAR
VERSION:2.0
PRODID:-//Hot Radio Maine - ECPv6.15.18//NONSGML v1.0//EN
CALSCALE:GREGORIAN
METHOD:PUBLISH
X-WR-CALNAME:Hot Radio Maine
X-ORIGINAL-URL:https://hotradiomaine.com
X-WR-CALDESC:Events for Hot Radio Maine
REFRESH-INTERVAL;VALUE=DURATION:PT1H
X-Robots-Tag:noindex
X-PUBLISHED-TTL:PT1H
BEGIN:VTIMEZONE
TZID:America/New_York
BEGIN:DAYLIGHT
TZOFFSETFROM:-0500
TZOFFSETTO:-0400
TZNAME:EDT
DTSTART:20250309T070000
END:DAYLIGHT
BEGIN:STANDARD
TZOFFSETFROM:-0400
TZOFFSETTO:-0500
TZNAME:EST
DTSTART:20251102T060000
END:STANDARD
BEGIN:DAYLIGHT
TZOFFSETFROM:-0500
TZOFFSETTO:-0400
TZNAME:EDT
DTSTART:20260308T070000
END:DAYLIGHT
BEGIN:STANDARD
TZOFFSETFROM:-0400
TZOFFSETTO:-0500
TZNAME:EST
DTSTART:20261101T060000
END:STANDARD
BEGIN:DAYLIGHT
TZOFFSETFROM:-0500
TZOFFSETTO:-0400
TZNAME:EDT
DTSTART:20270314T070000
END:DAYLIGHT
BEGIN:STANDARD
TZOFFSETFROM:-0400
TZOFFSETTO:-0500
TZNAME:EST
DTSTART:20271107T060000
END:STANDARD
END:VTIMEZONE
BEGIN:VEVENT
DTSTART;TZID=America/New_York:20260515T210000
DTEND;TZID=America/New_York:20260515T210000
DTSTAMP:20260422T181214
CREATED:20260421T194407Z
LAST-MODIFIED:20260421T194407Z
UID:107589-1778878800-1778878800@hotradiomaine.com
SUMMARY:Ryan Deelon @ Oasis
DESCRIPTION:Ryan Deelon’s DJing at Oasis in the Old Port on Friday\, May 15th. Music starts at 9p.
URL:https://hotradiomaine.com/event/ryan-deelon-oasis-3/
LOCATION:Oasis\, 42 Wharf St\, Portland\, 04101\, United States
END:VEVENT
BEGIN:VEVENT
DTSTART;TZID=America/New_York:20260515T210000
DTEND;TZID=America/New_York:20260515T210000
DTSTAMP:20260422T181214
CREATED:20251218T135829Z
LAST-MODIFIED:20251218T135829Z
UID:105654-1778878800-1778878800@hotradiomaine.com
SUMMARY:Ghostface Killah in Hampton Beach
DESCRIPTION:See Ghostface Killah at Wally’s in Hampton Beach\, NH. Friday\, May 15th. Show is 21+ Get your tickets here.
URL:https://hotradiomaine.com/event/ghostface-killah-in-hampton-beach/
LOCATION:Wally’s\, 144 Ashworth Ave\, Hampton Beach\, New Hampshire\, 03842
ATTACH;FMTTYPE=image/png:https://hotradiomaine.com/wp-content/uploads/2025/12/ghostface_1920x1080.png
END:VEVENT
BEGIN:VEVENT
DTSTART;VALUE=DATE:20260515
DTEND;VALUE=DATE:20260517
DTSTAMP:20260422T181214
CREATED:20260306T211030Z
LAST-MODIFIED:20260306T211030Z
UID:106761-1778803200-1778975999@hotradiomaine.com
SUMMARY:All Roads Music Festival in Portland
DESCRIPTION:Don’t miss All Roads Music Festival in Portland! Friday\, May 15th & Saturday\, May 16th across various venues in Portland. More details here.
URL:https://hotradiomaine.com/event/all-roads-music-festival-in-portland/
LOCATION:ME
ATTACH;FMTTYPE=image/jpeg:https://hotradiomaine.com/wp-content/uploads/2026/03/AllRoadsPortland_Teaser_web-600x927-1.jpg
END:VEVENT
BEGIN:VEVENT
DTSTART;TZID=America/New_York:20260514T213000
DTEND;TZID=America/New_York:20260514T213000
DTSTAMP:20260422T181214
CREATED:20260421T193429Z
LAST-MODIFIED:20260421T193429Z
UID:107579-1778794200-1778794200@hotradiomaine.com
SUMMARY:Karaoke: B. Aull @ Rosie’s
DESCRIPTION:B. Aull’s hosting Karaoke Night at Rosie’s Restaurant and Pub in the Old Port! Sing\, laugh and make memories. Thursday\, May 14th. First song starts at 9:30p.
URL:https://hotradiomaine.com/event/karaoke-b-aull-rosies-2/
LOCATION:Rosie’s Restaurant and Pub\, 330 Fore St\, Portland\, ME\, 04101\, United States
END:VEVENT
BEGIN:VEVENT
DTSTART;TZID=America/New_York:20260512T200000
DTEND;TZID=America/New_York:20260512T200000
DTSTAMP:20260422T181214
CREATED:20260206T194009Z
LAST-MODIFIED:20260206T194009Z
UID:106354-1778616000-1778616000@hotradiomaine.com
SUMMARY:PinkPantheress in Boston
DESCRIPTION:Experience An Evening with PinkPantheress at MGM Music Hall at Fenway in Boston. Tuesday\, May 12th. Show is all ages. Get your tickets here.
URL:https://hotradiomaine.com/event/pinkpantheress-in-boston/
LOCATION:MGM Music Hall\, 4 Lansdowne St\, Boston\, MA\, 02215\, United States
ATTACH;FMTTYPE=image/jpeg:https://hotradiomaine.com/wp-content/uploads/2026/02/051226_PinkPantheress_Horizontal.jpg
END:VEVENT
BEGIN:VEVENT
DTSTART;TZID=America/New_York:20260510T100000
DTEND;TZID=America/New_York:20260510T150000
DTSTAMP:20260422T181214
CREATED:20260421T195919Z
LAST-MODIFIED:20260421T195919Z
UID:107599-1778407200-1778425200@hotradiomaine.com
SUMMARY:Ryan Deelon @ Thompson's Point Makers Market
DESCRIPTION:Ryan Deelon’s DJing at the Thompson’s Point Makers Market on Sunday\, May 10th from 10am to 3pm.
URL:https://hotradiomaine.com/event/ryan-deelon-thompsons-point-makers-market/
LOCATION:Thompson’s Point\, 10 Thompsons Point\, Portland\, ME\, 04102\, United States
END:VEVENT
BEGIN:VEVENT
DTSTART;TZID=America/New_York:20260509T190000
DTEND;TZID=America/New_York:20260509T190000
DTSTAMP:20260422T181214
CREATED:20260421T200616Z
LAST-MODIFIED:20260421T200616Z
UID:107603-1778353200-1778353200@hotradiomaine.com
SUMMARY:Ryan Deelon @ Noble Junior Prom
DESCRIPTION:Ryan Deelon’s DJing Noble Junior Prom on Saturday\, May 9th!
URL:https://hotradiomaine.com/event/ryan-deelon-noble-junior-prom/
LOCATION:Noble High School\, 388 Somersworth Rd.\, North Berwick\, ME\, 03906\, United States
END:VEVENT
BEGIN:VEVENT
DTSTART;TZID=America/New_York:20260507T190000
DTEND;TZID=America/New_York:20260507T190000
DTSTAMP:20260422T181214
CREATED:20260406T172507Z
LAST-MODIFIED:20260406T172507Z
UID:107327-1778180400-1778180400@hotradiomaine.com
SUMMARY:Pup & Friends Benefit Concert feat. Shaggy in Boston
DESCRIPTION:Experience the Pup & Friends Benefit Concert featuring Shaggy! With special guests\, Tina F.K.A. HoodCelebrityy\, TIFA & DJ Suss One. Raising money for hurricane victims of Jamaica at Big Night Live in Boston. Thursday\, May 7th. Show is all 18+ Get your tickets here.
URL:https://hotradiomaine.com/event/pup-friends-benefit-concert-feat-shaggy-in-boston/
LOCATION:Big Night Live\, 110 Causeway St.\, Boston\, MA\, United States
ATTACH;FMTTYPE=image/jpeg:https://hotradiomaine.com/wp-content/uploads/2026/04/PupShaggy0507_1920x1080.jpg
END:VEVENT
BEGIN:VEVENT
DTSTART;TZID=America/New_York:20260507T093000
DTEND;TZID=America/New_York:20260507T213000
DTSTAMP:20260422T181214
CREATED:20260421T193247Z
LAST-MODIFIED:20260421T193247Z
UID:107577-1778146200-1778189400@hotradiomaine.com
SUMMARY:Karaoke: B. Aull @ Rosie’s
DESCRIPTION:B. Aull’s hosting Karaoke Night at Rosie’s Restaurant and Pub in the Old Port! Sing\, laugh and make memories. Thursday\, May 7th. First song starts at 9:30p.
URL:https://hotradiomaine.com/event/karaoke-b-aull-rosies/
LOCATION:Rosie’s Restaurant and Pub\, 330 Fore St\, Portland\, ME\, 04101\, United States
END:VEVENT
BEGIN:VEVENT
DTSTART;TZID=America/New_York:20260502T190000
DTEND;TZID=America/New_York:20260502T190000
DTSTAMP:20260422T181214
CREATED:20260420T165822Z
LAST-MODIFIED:20260420T165822Z
UID:107532-1777748400-1777748400@hotradiomaine.com
SUMMARY:Deck Dance Party: DJ Jay-C @ The Porthole
DESCRIPTION:Join DJ Jay-C for a Deck Dance Party. Saturday\, May 2nd at The Porthole in The Old Port. Doors open at 7p. No cover! 21+
URL:https://hotradiomaine.com/event/deck-dance-party-dj-jay-c-the-porthole/
LOCATION:The Porthole\, 20 Custom House Wharf\, Portland\, ME\, 04101\, United States
ATTACH;FMTTYPE=image/jpeg:https://hotradiomaine.com/wp-content/uploads/2026/04/02A69855-CCDD-4A57-9B7D-4F524ABE2070.jpeg
END:VEVENT
BEGIN:VEVENT
DTSTART;TZID=America/New_York:20260502T180000
DTEND;TZID=America/New_York:20260502T180000
DTSTAMP:20260422T181214
CREATED:20260421T200325Z
LAST-MODIFIED:20260421T200325Z
UID:107601-1777744800-1777744800@hotradiomaine.com
SUMMARY:Ryan Deelon @ Sanford Prom
DESCRIPTION:Ryan Deelon’s DJing Sanford Prom on Saturday\, May 2nd!
URL:https://hotradiomaine.com/event/ryan-deelon-sanford-prom/
LOCATION:Sanford High School\, 52 Sanford High School Blvd.\, Sanford \, ME\, 04073\, United States
END:VEVENT
BEGIN:VEVENT
DTSTART;TZID=America/New_York:20260502T100000
DTEND;TZID=America/New_York:20260502T130000
DTSTAMP:20260422T181214
CREATED:20260305T194030Z
LAST-MODIFIED:20260305T194030Z
UID:106727-1777716000-1777726800@hotradiomaine.com
SUMMARY:Salt & Light Community Center: Grand Opening & Building Dedication in Auburn
DESCRIPTION:Join Salt & Light Community Center for a Grand Opening & Building Dedication on Saturday\, May 2nd from 10a-1p! There will be light refreshments\, building tours\, and so much more. Grab a friend and stop by!
URL:https://hotradiomaine.com/event/salt-light-community-center-grand-opening-building-dedication-in-auburn/
LOCATION:Salt & Light Community Center\, 29 Hampshire St\, Auburn\, ME\, 04210\, United States
ATTACH;FMTTYPE=image/png:https://hotradiomaine.com/wp-content/uploads/2026/03/Save-the-Date-Grand-Opening-SL-2.png
END:VEVENT
BEGIN:VEVENT
DTSTART;TZID=America/New_York:20260501T200000
DTEND;TZID=America/New_York:20260501T200000
DTSTAMP:20260422T181214
CREATED:20260120T175826Z
LAST-MODIFIED:20260120T175826Z
UID:106056-1777665600-1777665600@hotradiomaine.com
SUMMARY:An Evening with John Legend in Portland
DESCRIPTION:Experience an Evening with John Legend: A Night of Songs & Stories at Merrill Auditorium in Portland! Friday\, May 1st. Show starts at 8pm. All ages. Tickets on sale 1/23/26 at 10am.
URL:https://hotradiomaine.com/event/an-evening-with-john-legend-in-portland/
LOCATION:Merrill Auditorium\, 20 Myrtle Street\, Portland\, ME\, 04101\, United States
ATTACH;FMTTYPE=image/jpeg:https://hotradiomaine.com/wp-content/uploads/2026/01/john.jpg
END:VEVENT
BEGIN:VEVENT
DTSTART;TZID=America/New_York:20260501T110000
DTEND;TZID=America/New_York:20260501T160000
DTSTAMP:20260422T181214
CREATED:20260413T203317Z
LAST-MODIFIED:20260413T203317Z
UID:107418-1777633200-1777651200@hotradiomaine.com
SUMMARY:Hot Cause for Paws: Pet Food & Supply Drive in Westbrook
DESCRIPTION:Hot Radio Maine and The Law Offices of Joe Bornstein Present\, Hot Cause for Paws – a pet food and supply drive dedicated to helping local animals in need! On Friday\, May 1st\, we will be broadcasting live from the Animal Refuge League of Greater Portland in Westbrook from 11am to 4pm. We would love for you to stop by and donate essential items such as pet food\, toys\, blankets\, and other supplies to support the shelter’s ongoing efforts. Plus\, we’ll be giving away Pitbull concert tickets every hour!
URL:https://hotradiomaine.com/event/hot-cause-for-paws-pet-food-supply-drive-in-westbrook/
LOCATION:Animal Refuge League of Greater Portland\, 217 Landing Road\, Westbrook\, ME\, 04092\, United States
ATTACH;FMTTYPE=image/jpeg:https://hotradiomaine.com/wp-content/uploads/2026/04/HotCauseForPaws_16x9.jpg
END:VEVENT
BEGIN:VEVENT
DTSTART;TZID=America/New_York:20260430T213000
DTEND;TZID=America/New_York:20260430T213000
DTSTAMP:20260422T181214
CREATED:20260327T195731Z
LAST-MODIFIED:20260327T195731Z
UID:107136-1777584600-1777584600@hotradiomaine.com
SUMMARY:Karaoke: B. Aull @ Rosie’s
DESCRIPTION:B. Aull’s hosting Karaoke Night at Rosie’s Restaurant and Pub in the Old Port! Sing\, laugh and make memories. Thursday\, April 30th. First song starts at 9:30p.
URL:https://hotradiomaine.com/event/karaoke-b-aull-rosies-8/
LOCATION:Rosie’s Restaurant and Pub\, 330 Fore St\, Portland\, ME\, 04101\, United States
END:VEVENT
BEGIN:VEVENT
DTSTART;TZID=America/New_York:20260426T150000
DTEND;TZID=America/New_York:20260426T170000
DTSTAMP:20260422T181214
CREATED:20260331T135028Z
LAST-MODIFIED:20260331T135028Z
UID:107176-1777215600-1777222800@hotradiomaine.com
SUMMARY:Live Broadcast @ Ri Ra Irish Pub
DESCRIPTION:Hot Radio Maine is broadcasting live from Ri Ra Irish Pub in the Old Port from 3p to 5p on Sunday\, April 26th! Join us for a Split the G competition as they celebrate 25 years in business! You might even win Ed Sheeran tickets.
URL:https://hotradiomaine.com/event/live-broadcast-ri-ra-irish-pub/
LOCATION:Ri Ra Irish Pub\, 72 Commercial St\, Portland\, ME\, 04101\, United States
ATTACH;FMTTYPE=image/png:https://hotradiomaine.com/wp-content/uploads/2020/01/hotradio.png
END:VEVENT
BEGIN:VEVENT
DTSTART;TZID=America/New_York:20260426T140000
DTEND;TZID=America/New_York:20260426T160000
DTSTAMP:20260422T181214
CREATED:20260327T195920Z
LAST-MODIFIED:20260421T130623Z
UID:107138-1777212000-1777219200@hotradiomaine.com
SUMMARY:Can't Knock The Hops: Ryan @ Austin Street
DESCRIPTION:Ryan Deelon’s DJing a 90’s Hip Hop and R&B Kickback at Austin Street in Portland! Sunday\, April 26th. Music starts at 2p.
URL:https://hotradiomaine.com/event/cant-knock-the-hops-ryan-austin-street/
LOCATION:Austin Street Brewery\, 115 Fox St\, Portland\, ME\, 04101\, United States
ATTACH;FMTTYPE=image/jpeg:https://hotradiomaine.com/wp-content/uploads/2026/03/CKTH-90s-16x9-1.jpg
END:VEVENT
BEGIN:VEVENT
DTSTART;TZID=America/New_York:20260426T120000
DTEND;TZID=America/New_York:20260426T140000
DTSTAMP:20260422T181214
CREATED:20260324T162216Z
LAST-MODIFIED:20260324T162216Z
UID:107058-1777204800-1777212000@hotradiomaine.com
SUMMARY:Live Broadcast @ Portland Sea Dogs Game
DESCRIPTION:Hot Radio Maine is broadcasting live from the Portland Sea Dogs game for Halloween at Hadlock! Sunday\, April 26th at Delta Dental Park in Portland. We’ll be there from 12p to 2p with games\, prizes and music. Need tickets to the game? Get them here. \nMade Hot in Maine by The Law Offices of Joe Bornstein! Accidents happen… to be their specialty. 207-CALL-JOE.
URL:https://hotradiomaine.com/event/live-broadcast-portland-sea-dogs-game/
LOCATION:Hadlock Field\, 271 Park Ave.\, Portland\, ME\, 04102\, United States
ATTACH;FMTTYPE=image/png:https://hotradiomaine.com/wp-content/uploads/2020/01/hotradio.png
END:VEVENT
BEGIN:VEVENT
DTSTART;TZID=America/New_York:20260423T213000
DTEND;TZID=America/New_York:20260423T213000
DTSTAMP:20260422T181214
CREATED:20260327T195636Z
LAST-MODIFIED:20260327T195636Z
UID:107134-1776979800-1776979800@hotradiomaine.com
SUMMARY:Karaoke: B. Aull @ Rosie’s
DESCRIPTION:B. Aull’s hosting Karaoke Night at Rosie’s Restaurant and Pub in the Old Port! Sing\, laugh and make memories. Thursday\, April 23rd. First song starts at 9:30p.
URL:https://hotradiomaine.com/event/karaoke-b-aull-rosies-7/
LOCATION:Rosie’s Restaurant and Pub\, 330 Fore St\, Portland\, ME\, 04101\, United States
END:VEVENT
BEGIN:VEVENT
DTSTART;TZID=America/New_York:20260420T200000
DTEND;TZID=America/New_York:20260420T200000
DTSTAMP:20260422T181214
CREATED:20260206T193619Z
LAST-MODIFIED:20260206T193619Z
UID:106351-1776715200-1776715200@hotradiomaine.com
SUMMARY:Raye in Boston
DESCRIPTION:See Raye on This Tour May Contain New Music at MGM Music Hall at Fenway in Boston. With special guests\, Absolutely & Amma. Monday\, April 20th. Show is all ages. Get your tickets here.
URL:https://hotradiomaine.com/event/raye-in-boston/
LOCATION:MGM Music Hall\, 4 Lansdowne St\, Boston\, MA\, 02215\, United States
ATTACH;FMTTYPE=image/jpeg:https://hotradiomaine.com/wp-content/uploads/2026/02/042026_Raye_Horizontal.jpg
END:VEVENT
BEGIN:VEVENT
DTSTART;TZID=America/New_York:20260419T190000
DTEND;TZID=America/New_York:20260419T190000
DTSTAMP:20260422T181214
CREATED:20260302T194635Z
LAST-MODIFIED:20260302T194635Z
UID:106671-1776625200-1776625200@hotradiomaine.com
SUMMARY:Hasan Minhaj & Ronny Chieng in Portland
DESCRIPTION:See comedians Hasan Minhaj & Ronny Chieng for Hasan Hates Ronny\, Ronny Hates Hasan: A Debate to the Death at the State Theatre in Portland! Sunday\, April 19th. Show starts at 7pm. Show is 13+ Get your tickets here.
URL:https://hotradiomaine.com/event/hasan-minhaj-ronny-chieng-in-portland/
LOCATION:State Theatre\, 609 Congress St\, Portland\, ME\, 04101\, United States
ATTACH;FMTTYPE=image/jpeg:https://hotradiomaine.com/wp-content/uploads/2026/03/unnamed-3.jpg
END:VEVENT
BEGIN:VEVENT
DTSTART;TZID=America/New_York:20260418T200000
DTEND;TZID=America/New_York:20260418T200000
DTSTAMP:20260422T181214
CREATED:20260310T205009Z
LAST-MODIFIED:20260310T205009Z
UID:106805-1776542400-1776542400@hotradiomaine.com
SUMMARY:Lil Dee in Old Town
DESCRIPTION:Old Town Theatre & DJ2Phat present\, Lil Dee! Live at The Old Town Theatre on Saturday\, April 18th. Show is 18+ Get your tickets here.
URL:https://hotradiomaine.com/event/lil-dee-in-old-town/
LOCATION:Old Town Theatre\, 261 Main St\, Old Town\, ME\, 04468\, United States
ATTACH;FMTTYPE=image/jpeg:https://hotradiomaine.com/wp-content/uploads/2026/03/7F970252-2D49-4316-94B2-9693D06FD493.jpg
END:VEVENT
BEGIN:VEVENT
DTSTART;TZID=America/New_York:20260416T213000
DTEND;TZID=America/New_York:20260416T213000
DTSTAMP:20260422T181214
CREATED:20260327T195543Z
LAST-MODIFIED:20260327T195543Z
UID:107132-1776375000-1776375000@hotradiomaine.com
SUMMARY:Karaoke: B. Aull @ Rosie’s
DESCRIPTION:B. Aull’s hosting Karaoke Night at Rosie’s Restaurant and Pub in the Old Port! Sing\, laugh and make memories. Thursday\, April 16th. First song starts at 9:30p.
URL:https://hotradiomaine.com/event/karaoke-b-aull-rosies-5/
LOCATION:Rosie’s Restaurant and Pub\, 330 Fore St\, Portland\, ME\, 04101\, United States
END:VEVENT
BEGIN:VEVENT
DTSTART;TZID=America/New_York:20260409T213000
DTEND;TZID=America/New_York:20260409T213000
DTSTAMP:20260422T181214
CREATED:20260327T195458Z
LAST-MODIFIED:20260327T195458Z
UID:107130-1775770200-1775770200@hotradiomaine.com
SUMMARY:Karaoke: B. Aull @ Rosie’s
DESCRIPTION:B. Aull’s hosting Karaoke Night at Rosie’s Restaurant and Pub in the Old Port! Sing\, laugh and make memories. Thursday\, April 9th. First song starts at 9:30p.
URL:https://hotradiomaine.com/event/karaoke-b-aull-rosies-4/
LOCATION:Rosie’s Restaurant and Pub\, 330 Fore St\, Portland\, ME\, 04101\, United States
END:VEVENT
BEGIN:VEVENT
DTSTART;TZID=America/New_York:20260404T220000
DTEND;TZID=America/New_York:20260404T220000
DTSTAMP:20260422T181214
CREATED:20260326T132355Z
LAST-MODIFIED:20260326T132355Z
UID:107091-1775340000-1775340000@hotradiomaine.com
SUMMARY:Dear Spring: DJ Onax @ Aura
DESCRIPTION:Join DJ Onax for Dear Spring. Saturday\, April 4th at Aura in Portland. Doors open at 10p. 21+
URL:https://hotradiomaine.com/event/dear-spring-dj-onax-aura/
LOCATION:Aura\, 121 Center Street\, Portland\, ME\, 04101\, United States
ATTACH;FMTTYPE=image/jpeg:https://hotradiomaine.com/wp-content/uploads/2026/03/465707b2-c421-416a-ac32-e326d4f1a8b6.jpg
END:VEVENT
BEGIN:VEVENT
DTSTART;TZID=America/New_York:20260403T190000
DTEND;TZID=America/New_York:20260403T190000
DTSTAMP:20260422T181214
CREATED:20260211T184336Z
LAST-MODIFIED:20260211T184336Z
UID:106429-1775242800-1775242800@hotradiomaine.com
SUMMARY:Hot Show #30: Conway the Machine in Portland
DESCRIPTION:Oxbow Live & Hot Radio Maine Present\, Hot Show #30: Conway the Machine. At Oxbow Blending & Bottling in Portland Friday\, April 3rd. Get your tickets here. Show is 21+
URL:https://hotradiomaine.com/event/hot-show-30-conway-the-machine-in-portland/
LOCATION:Oxbow Blending & Bottling\, 49 Washington Ave\, Portland\, ME\, 04101\, United States
ATTACH;FMTTYPE=image/jpeg:https://hotradiomaine.com/wp-content/uploads/2026/02/HotShow30_1920x1005-1.jpg
END:VEVENT
BEGIN:VEVENT
DTSTART;TZID=America/New_York:20260402T213000
DTEND;TZID=America/New_York:20260402T213000
DTSTAMP:20260422T181214
CREATED:20260327T195359Z
LAST-MODIFIED:20260327T195359Z
UID:107128-1775165400-1775165400@hotradiomaine.com
SUMMARY:Karaoke: B. Aull @ Rosie’s
DESCRIPTION:B. Aull’s hosting Karaoke Night at Rosie’s Restaurant and Pub in the Old Port! Sing\, laugh and make memories. Thursday\, April 2nd. First song starts at 9:30p.
URL:https://hotradiomaine.com/event/karaoke-b-aull-rosies-3/
LOCATION:Rosie’s Restaurant and Pub\, 330 Fore St\, Portland\, ME\, 04101\, United States
END:VEVENT
BEGIN:VEVENT
DTSTART;TZID=America/New_York:20260402T200000
DTEND;TZID=America/New_York:20260402T200000
DTSTAMP:20260422T181214
CREATED:20251218T133119Z
LAST-MODIFIED:20251218T133119Z
UID:105651-1775160000-1775160000@hotradiomaine.com
SUMMARY:Aly & AJ in Portland
DESCRIPTION:See Aly & AJ at the State Theatre in Portland. Thursday\, April 2nd. Show is all ages. Get your tickets here.
URL:https://hotradiomaine.com/event/aly-aj-in-portland/
LOCATION:State Theatre\, 609 Congress St\, Portland\, ME\, 04101\, United States
ATTACH;FMTTYPE=image/png:https://hotradiomaine.com/wp-content/uploads/2025/12/2026.04.02-Aly-and-AJ-1200x630-1.png
END:VEVENT
BEGIN:VEVENT
DTSTART;TZID=America/New_York:20260402T193000
DTEND;TZID=America/New_York:20260402T193000
DTSTAMP:20260422T181214
CREATED:20260311T201414Z
LAST-MODIFIED:20260311T201414Z
UID:106819-1775158200-1775158200@hotradiomaine.com
SUMMARY:Cardi B in Boston
DESCRIPTION:See Cardi B on the Little Miss Drama Tour at the TD Garden in Boston. Thursday\, April 2nd. Show is all ages. Get your tickets here.
URL:https://hotradiomaine.com/event/cardi-b-in-boston/
LOCATION:TD Garden\, 100 Legends Way\, Boston\, MA\, 02114\, United States
ATTACH;FMTTYPE=image/jpeg:https://hotradiomaine.com/wp-content/uploads/2026/03/cardi.jpg
END:VEVENT
BEGIN:VEVENT
DTSTART;TZID=America/New_York:20260329T140000
DTEND;TZID=America/New_York:20260329T140000
DTSTAMP:20260422T181214
CREATED:20260220T183221Z
LAST-MODIFIED:20260220T183221Z
UID:106567-1774792800-1774792800@hotradiomaine.com
SUMMARY:Can't Knock The Hops: Ryan @ Austin Street
DESCRIPTION:Ryan Deelon’s DJing a 90’s Hip Hop and R&B Kickback at Austin Street in Portland! Sunday\, March 29th. Music starts at 2p.
URL:https://hotradiomaine.com/event/cant-knock-the-hops-ryan-austin-street-3/
LOCATION:Austin Street Brewery\, 115 Fox St\, Portland\, ME\, 04101\, United States
END:VEVENT
END:VCALENDAR