BEGIN:VCALENDAR
VERSION:2.0
PRODID:-//Hot Radio Maine - ECPv6.15.18//NONSGML v1.0//EN
CALSCALE:GREGORIAN
METHOD:PUBLISH
X-ORIGINAL-URL:https://hotradiomaine.com
X-WR-CALDESC:Events for Hot Radio Maine
REFRESH-INTERVAL;VALUE=DURATION:PT1H
X-Robots-Tag:noindex
X-PUBLISHED-TTL:PT1H
BEGIN:VTIMEZONE
TZID:America/New_York
BEGIN:DAYLIGHT
TZOFFSETFROM:-0500
TZOFFSETTO:-0400
TZNAME:EDT
DTSTART:20250309T070000
END:DAYLIGHT
BEGIN:STANDARD
TZOFFSETFROM:-0400
TZOFFSETTO:-0500
TZNAME:EST
DTSTART:20251102T060000
END:STANDARD
BEGIN:DAYLIGHT
TZOFFSETFROM:-0500
TZOFFSETTO:-0400
TZNAME:EDT
DTSTART:20260308T070000
END:DAYLIGHT
BEGIN:STANDARD
TZOFFSETFROM:-0400
TZOFFSETTO:-0500
TZNAME:EST
DTSTART:20261101T060000
END:STANDARD
BEGIN:DAYLIGHT
TZOFFSETFROM:-0500
TZOFFSETTO:-0400
TZNAME:EDT
DTSTART:20270314T070000
END:DAYLIGHT
BEGIN:STANDARD
TZOFFSETFROM:-0400
TZOFFSETTO:-0500
TZNAME:EST
DTSTART:20271107T060000
END:STANDARD
END:VTIMEZONE
BEGIN:VEVENT
DTSTART;TZID=America/New_York:20261106T200000
DTEND;TZID=America/New_York:20261106T200000
DTSTAMP:20260421T150006
CREATED:20260421T164150Z
LAST-MODIFIED:20260421T164150Z
UID:107549-1793995200-1793995200@hotradiomaine.com
SUMMARY:Leslie Jones in Portland
DESCRIPTION:See comedian Leslie Jones at the State Theatre in Portland. Friday\, November 6th. Show is all ages. Get your tickets here.
URL:https://hotradiomaine.com/event/leslie-jones-in-portland/
LOCATION:State Theatre\, 609 Congress St\, Portland\, ME\, 04101\, United States
ATTACH;FMTTYPE=image/png:https://hotradiomaine.com/wp-content/uploads/2026/04/2026.11.06-Leslie-Jones-1200x630-1.png
END:VEVENT
BEGIN:VEVENT
DTSTART;TZID=America/New_York:20261123T193000
DTEND;TZID=America/New_York:20261123T193000
DTSTAMP:20260421T150006
CREATED:20260402T200516Z
LAST-MODIFIED:20260402T200516Z
UID:107268-1795462200-1795462200@hotradiomaine.com
SUMMARY:Doja Cat in Boston
DESCRIPTION:See Doja Cat on The Scarlet World Tour at the TD Garden in Boston. Monday\, November 23rd. Show is all ages. Get your tickets here.
URL:https://hotradiomaine.com/event/doja-cat-in-boston/
LOCATION:TD Garden\, 100 Legends Way\, Boston\, MA\, 02114\, United States
ATTACH;FMTTYPE=image/jpeg:https://hotradiomaine.com/wp-content/uploads/2026/04/Static_Social-X_800x419_DojaCat_2026_Regional_TDGarden_1123.jpg
END:VEVENT
END:VCALENDAR